BEGIN:VCALENDAR
VERSION:2.0
PRODID:-//Escape Velocity Resources Foundation, Inc - ECPv6.15.20//NONSGML v1.0//EN
CALSCALE:GREGORIAN
METHOD:PUBLISH
X-ORIGINAL-URL:https://escapevelocityfoundation.com
X-WR-CALDESC:Events for Escape Velocity Resources Foundation, Inc
REFRESH-INTERVAL;VALUE=DURATION:PT1H
X-Robots-Tag:noindex
X-PUBLISHED-TTL:PT1H
BEGIN:VTIMEZONE
TZID:America/Los_Angeles
BEGIN:DAYLIGHT
TZOFFSETFROM:-0800
TZOFFSETTO:-0700
TZNAME:PDT
DTSTART:20220313T100000
END:DAYLIGHT
BEGIN:STANDARD
TZOFFSETFROM:-0700
TZOFFSETTO:-0800
TZNAME:PST
DTSTART:20221106T090000
END:STANDARD
BEGIN:DAYLIGHT
TZOFFSETFROM:-0800
TZOFFSETTO:-0700
TZNAME:PDT
DTSTART:20230312T100000
END:DAYLIGHT
BEGIN:STANDARD
TZOFFSETFROM:-0700
TZOFFSETTO:-0800
TZNAME:PST
DTSTART:20231105T090000
END:STANDARD
BEGIN:DAYLIGHT
TZOFFSETFROM:-0800
TZOFFSETTO:-0700
TZNAME:PDT
DTSTART:20240310T100000
END:DAYLIGHT
BEGIN:STANDARD
TZOFFSETFROM:-0700
TZOFFSETTO:-0800
TZNAME:PST
DTSTART:20241103T090000
END:STANDARD
BEGIN:DAYLIGHT
TZOFFSETFROM:-0800
TZOFFSETTO:-0700
TZNAME:PDT
DTSTART:20250309T100000
END:DAYLIGHT
BEGIN:STANDARD
TZOFFSETFROM:-0700
TZOFFSETTO:-0800
TZNAME:PST
DTSTART:20251102T090000
END:STANDARD
END:VTIMEZONE
BEGIN:VEVENT
DTSTART;TZID=America/Los_Angeles:20230610T120000
DTEND;TZID=America/Los_Angeles:20230610T170000
DTSTAMP:20260423T041014
CREATED:20230525T201610Z
LAST-MODIFIED:20230525T201610Z
UID:10000758-1686398400-1686416400@escapevelocityfoundation.com
SUMMARY:FRCBP Juneteenth Event
DESCRIPTION:
URL:https://escapevelocityfoundation.com/event/frcbp-juneteenth-event/
LOCATION:Florin Square\, 2251 Florin Road\, Sacramento\, CA\, 95822\, United States
CATEGORIES:Community Event,FRCBP
ORGANIZER;CN="Escape Velocity Resources Foundation Inc":MAILTO:escapevelocityfoundationinc@gmail.com
END:VEVENT
BEGIN:VEVENT
DTSTART;TZID=America/Los_Angeles:20230624T110000
DTEND;TZID=America/Los_Angeles:20230624T123000
DTSTAMP:20260423T041014
CREATED:20230623T173333Z
LAST-MODIFIED:20230623T173333Z
UID:10000768-1687604400-1687609800@escapevelocityfoundation.com
SUMMARY:FRCBP Youth Ambassador Community Squad Workshop
DESCRIPTION:
URL:https://escapevelocityfoundation.com/event/frcbp-youth-ambassador-community-squad-workshop/
LOCATION:Florin Square\, 2251 Florin Road\, Sacramento\, CA\, 95822\, United States
CATEGORIES:FRCBP,Meeting,Program
ORGANIZER;CN="Escape Velocity Resources Foundation Inc":MAILTO:escapevelocityfoundationinc@gmail.com
END:VEVENT
BEGIN:VEVENT
DTSTART;TZID=America/Los_Angeles:20230729T100000
DTEND;TZID=America/Los_Angeles:20230729T110000
DTSTAMP:20260423T041014
CREATED:20230623T175305Z
LAST-MODIFIED:20230623T175305Z
UID:10000773-1690624800-1690628400@escapevelocityfoundation.com
SUMMARY:FRCBP Youth Ambassador Community Squad Workshop
DESCRIPTION:The youth will be learning about Thrifting from business owner Passion of Hidden Gems Thrift Store \n 
URL:https://escapevelocityfoundation.com/event/frcbp-youth-ambassador-community-squad-workshop-2/
LOCATION:Hidden Gems Thrift Store\, 2245 Florin Rd\, Ste 12\, Sacramento\, CA\, 95822\, United States
CATEGORIES:FRCBP,Program,Youth Event
ORGANIZER;CN="Escape Velocity Resources Foundation Inc":MAILTO:escapevelocityfoundationinc@gmail.com
END:VEVENT
BEGIN:VEVENT
DTSTART;TZID=America/Los_Angeles:20230826T100000
DTEND;TZID=America/Los_Angeles:20230826T110000
DTSTAMP:20260423T041014
CREATED:20230809T203227Z
LAST-MODIFIED:20230809T203227Z
UID:10000775-1693044000-1693047600@escapevelocityfoundation.com
SUMMARY:FRCBP YACS Workshop
DESCRIPTION:Monthly learning workshop for Youth Ambassador Community Squad. Topic is Environmental Justice.
URL:https://escapevelocityfoundation.com/event/frcbp-yacs-workshop/
LOCATION:Sojourner Truth Multicultural Art Museum\, 2251 Florin Rd\, #126\, Sacramento\, CA\, 95822\, United States
CATEGORIES:FRCBP,Youth Ambassador,Youth Event
ORGANIZER;CN="Escape Velocity Resources Foundation Inc":MAILTO:escapevelocityfoundationinc@gmail.com
END:VEVENT
BEGIN:VEVENT
DTSTART;TZID=America/Los_Angeles:20230916T120000
DTEND;TZID=America/Los_Angeles:20230916T170000
DTSTAMP:20260423T041014
CREATED:20230906T225610Z
LAST-MODIFIED:20230906T225610Z
UID:10000811-1694865600-1694883600@escapevelocityfoundation.com
SUMMARY:Florin Road Community Beautification Project Mural Kick-Off and Block Party
DESCRIPTION:Some exciting things coming to Florin Road!! Join us for the kick off for the FLORIN ROAD COMMUNITY BEAUTIFICATION PROJECT Block party! There will be venders\, music\, backpack giveaways\, and fun activities for the youth!\n\n\nOn September 16th from 12pm-5pm!\n\n\nBe a part of the change and process of beautifying our community!\n\n  \nActivities will include:\n12pm- Mural Kick off and Community Painting Opportunities-\nThe community is invited to help paint a huge mural on the Florin Facing wall of Food Maxx\n1-1:30pm T.A.L.A Band\n2-3pm Dongato Band/Salsa\n3:30-4pm Performances by Keon Johnson and local youth\nArt activities for youth provided by Nappi Manifestations\, Escape Velocity\, and local artists
URL:https://escapevelocityfoundation.com/event/florin-road-community-beautification-project-mural-kick-off-and-block-party/
LOCATION:Food Maxx\, 3860 Florin Rd\, Sacramento\, CA\, 95823
CATEGORIES:Community Event,FRCBP
ORGANIZER;CN="Escape Velocity Resources Foundation Inc":MAILTO:escapevelocityfoundationinc@gmail.com
END:VEVENT
BEGIN:VEVENT
DTSTART;TZID=America/Los_Angeles:20230923T100000
DTEND;TZID=America/Los_Angeles:20230923T120000
DTSTAMP:20260423T041014
CREATED:20230906T225709Z
LAST-MODIFIED:20230906T225709Z
UID:10000812-1695463200-1695470400@escapevelocityfoundation.com
SUMMARY:FRCBP Youth Ambassador Community Squad Yisrael Farm Tour
DESCRIPTION:
URL:https://escapevelocityfoundation.com/event/frcbp-youth-ambassador-community-squad-yisrael-farm-tour/
LOCATION:CA
CATEGORIES:FRCBP,Youth Event
ORGANIZER;CN="Escape Velocity Resources Foundation Inc":MAILTO:escapevelocityfoundationinc@gmail.com
END:VEVENT
BEGIN:VEVENT
DTSTART;TZID=America/Los_Angeles:20231111T100000
DTEND;TZID=America/Los_Angeles:20231111T110000
DTSTAMP:20260423T041014
CREATED:20231115T023127Z
LAST-MODIFIED:20231115T023151Z
UID:10000935-1699696800-1699700400@escapevelocityfoundation.com
SUMMARY:FRCBP Youth Ambassador Community Squad Meeting
DESCRIPTION:PSA discussion
URL:https://escapevelocityfoundation.com/event/frcbp-youth-ambassador-community-squad-meeting/2023-11-11/
LOCATION:Zoom
CATEGORIES:FRCBP,Meeting
ORGANIZER;CN="Escape Velocity Resources Foundation Inc":MAILTO:escapevelocityfoundationinc@gmail.com
END:VEVENT
BEGIN:VEVENT
DTSTART;TZID=America/Los_Angeles:20231118T100000
DTEND;TZID=America/Los_Angeles:20231118T110000
DTSTAMP:20260423T041014
CREATED:20231115T023127Z
LAST-MODIFIED:20231115T023151Z
UID:10000936-1700301600-1700305200@escapevelocityfoundation.com
SUMMARY:FRCBP Youth Ambassador Community Squad Meeting
DESCRIPTION:PSA discussion
URL:https://escapevelocityfoundation.com/event/frcbp-youth-ambassador-community-squad-meeting/2023-11-18/
LOCATION:Zoom
CATEGORIES:FRCBP,Meeting
ORGANIZER;CN="Escape Velocity Resources Foundation Inc":MAILTO:escapevelocityfoundationinc@gmail.com
END:VEVENT
BEGIN:VEVENT
DTSTART;TZID=America/Los_Angeles:20231216T100000
DTEND;TZID=America/Los_Angeles:20231216T110000
DTSTAMP:20260423T041014
CREATED:20231206T223450Z
LAST-MODIFIED:20231206T223450Z
UID:10000961-1702720800-1702724400@escapevelocityfoundation.com
SUMMARY:FRCBP - Youth Ambassador Check-in
DESCRIPTION:Check-in on PSA materials
URL:https://escapevelocityfoundation.com/event/frcbp-youth-ambassador-check-in/
LOCATION:Zoom
CATEGORIES:FRCBP,Meeting
ORGANIZER;CN="Escape Velocity Resources Foundation Inc":MAILTO:escapevelocityfoundationinc@gmail.com
END:VEVENT
BEGIN:VEVENT
DTSTART;TZID=America/Los_Angeles:20231223T100000
DTEND;TZID=America/Los_Angeles:20231223T110000
DTSTAMP:20260423T041014
CREATED:20231213T033101Z
LAST-MODIFIED:20231213T033101Z
UID:10000983-1703325600-1703329200@escapevelocityfoundation.com
SUMMARY:FRCBP - Youth Ambassador Check-in
DESCRIPTION:
URL:https://escapevelocityfoundation.com/event/frcbp-youth-ambassador-check-in-2/
LOCATION:Zoom
CATEGORIES:FRCBP,Youth Development
ORGANIZER;CN="Escape Velocity Resources Foundation Inc":MAILTO:escapevelocityfoundationinc@gmail.com
END:VEVENT
BEGIN:VEVENT
DTSTART;TZID=America/Los_Angeles:20231229T120000
DTEND;TZID=America/Los_Angeles:20231229T190000
DTSTAMP:20260423T041014
CREATED:20231206T225815Z
LAST-MODIFIED:20231206T225815Z
UID:10000965-1703851200-1703876400@escapevelocityfoundation.com
SUMMARY:FRCBP Kwanzaa Event
DESCRIPTION:Celebrate Kwanzaa with the Ujamaa Market inside Florin Square.
URL:https://escapevelocityfoundation.com/event/frcbp-kwanzaa-event/
LOCATION:Florin Square\, 2251 Florin Road\, Sacramento\, CA\, 95822\, United States
CATEGORIES:Community Event,FRCBP
ORGANIZER;CN="Escape Velocity Resources Foundation Inc":MAILTO:escapevelocityfoundationinc@gmail.com
END:VEVENT
BEGIN:VEVENT
DTSTART;TZID=America/Los_Angeles:20240608T120000
DTEND;TZID=America/Los_Angeles:20240608T170000
DTSTAMP:20260423T041014
CREATED:20240523T132134Z
LAST-MODIFIED:20240523T132134Z
UID:10001044-1717848000-1717866000@escapevelocityfoundation.com
SUMMARY:Youth Entrepreneur Celebration
DESCRIPTION:You’re invited to the Youth Entrepreneur Celebration! Join us at Foodmaxx on Florin and Franklin Blvd for a day filled with inspiration\, networking\, and fun. Connect with young entrepreneurs\, enjoy poetry performances\, art\, games\, live bands\, a mural dedication and more. Don’t miss out on this exciting event – mark your calendar and get ready to celebrate youth entrepreneurship!
URL:https://escapevelocityfoundation.com/event/youth-entrepreneur-celebration/
LOCATION:Food Maxx\, 3860 Florin Rd\, Sacramento\, CA\, 95823
CATEGORIES:Community Event,FRCBP,Youth Event
ORGANIZER;CN="Escape Velocity Resources Foundation Inc":MAILTO:escapevelocityfoundationinc@gmail.com
END:VEVENT
END:VCALENDAR