BEGIN:VCALENDAR
VERSION:2.0
PRODID:-//Escape Velocity Resources Foundation, Inc - ECPv6.15.20//NONSGML v1.0//EN
CALSCALE:GREGORIAN
METHOD:PUBLISH
X-WR-CALNAME:Escape Velocity Resources Foundation, Inc
X-ORIGINAL-URL:https://escapevelocityfoundation.com
X-WR-CALDESC:Events for Escape Velocity Resources Foundation, Inc
REFRESH-INTERVAL;VALUE=DURATION:PT1H
X-Robots-Tag:noindex
X-PUBLISHED-TTL:PT1H
BEGIN:VTIMEZONE
TZID:America/Los_Angeles
BEGIN:DAYLIGHT
TZOFFSETFROM:-0800
TZOFFSETTO:-0700
TZNAME:PDT
DTSTART:20220313T100000
END:DAYLIGHT
BEGIN:STANDARD
TZOFFSETFROM:-0700
TZOFFSETTO:-0800
TZNAME:PST
DTSTART:20221106T090000
END:STANDARD
BEGIN:DAYLIGHT
TZOFFSETFROM:-0800
TZOFFSETTO:-0700
TZNAME:PDT
DTSTART:20230312T100000
END:DAYLIGHT
BEGIN:STANDARD
TZOFFSETFROM:-0700
TZOFFSETTO:-0800
TZNAME:PST
DTSTART:20231105T090000
END:STANDARD
BEGIN:DAYLIGHT
TZOFFSETFROM:-0800
TZOFFSETTO:-0700
TZNAME:PDT
DTSTART:20240310T100000
END:DAYLIGHT
BEGIN:STANDARD
TZOFFSETFROM:-0700
TZOFFSETTO:-0800
TZNAME:PST
DTSTART:20241103T090000
END:STANDARD
BEGIN:DAYLIGHT
TZOFFSETFROM:-0800
TZOFFSETTO:-0700
TZNAME:PDT
DTSTART:20250309T100000
END:DAYLIGHT
BEGIN:STANDARD
TZOFFSETFROM:-0700
TZOFFSETTO:-0800
TZNAME:PST
DTSTART:20251102T090000
END:STANDARD
END:VTIMEZONE
BEGIN:VEVENT
DTSTART;VALUE=DATE:20230509
DTEND;VALUE=DATE:20230525
DTSTAMP:20260423T040737
CREATED:20230518T052406Z
LAST-MODIFIED:20230518T052406Z
UID:10000736-1683590400-1684972799@escapevelocityfoundation.com
SUMMARY:Summer Reading Challenge Registration
DESCRIPTION:Registration is open for the Summer Reading Challenge. Apply by May 24\, 2023. Youth ages 8-14.
URL:https://escapevelocityfoundation.com/event/summer-reading-challenge-registration/
CATEGORIES:Program,Summer Reading,Youth Development,Youth Event
ATTACH;FMTTYPE=image/png:https://escapevelocityfoundation.com/wp-content/uploads/summer-reading-challenge-logo-samples.png
ORGANIZER;CN="Escape Velocity Resources Foundation Inc":MAILTO:escapevelocityfoundationinc@gmail.com
END:VEVENT
BEGIN:VEVENT
DTSTART;TZID=America/Los_Angeles:20230601T183000
DTEND;TZID=America/Los_Angeles:20230601T193000
DTSTAMP:20260423T040737
CREATED:20230525T152049Z
LAST-MODIFIED:20230525T152049Z
UID:10000743-1685644200-1685647800@escapevelocityfoundation.com
SUMMARY:Summer Reading Challenge Orienation
DESCRIPTION:
URL:https://escapevelocityfoundation.com/event/summer-reading-challenge-orienation/
CATEGORIES:Program,Summer Reading
ORGANIZER;CN="Escape Velocity Resources Foundation Inc":MAILTO:escapevelocityfoundationinc@gmail.com
END:VEVENT
BEGIN:VEVENT
DTSTART;TZID=America/Los_Angeles:20230607T183000
DTEND;TZID=America/Los_Angeles:20230607T193000
DTSTAMP:20260423T040737
CREATED:20230525T152311Z
LAST-MODIFIED:20230525T152311Z
UID:10000744-1686162600-1686166200@escapevelocityfoundation.com
SUMMARY:Summer Reading Challenge Weekly Check-in
DESCRIPTION:
URL:https://escapevelocityfoundation.com/event/summer-reading-challenge-weekly-check-in/2023-06-07/
LOCATION:Zoom
CATEGORIES:Program,Summer Reading
ORGANIZER;CN="Escape Velocity Resources Foundation Inc":MAILTO:escapevelocityfoundationinc@gmail.com
END:VEVENT
BEGIN:VEVENT
DTSTART;TZID=America/Los_Angeles:20230614T183000
DTEND;TZID=America/Los_Angeles:20230614T193000
DTSTAMP:20260423T040737
CREATED:20230525T152311Z
LAST-MODIFIED:20230525T152311Z
UID:10000745-1686767400-1686771000@escapevelocityfoundation.com
SUMMARY:Summer Reading Challenge Weekly Check-in
DESCRIPTION:
URL:https://escapevelocityfoundation.com/event/summer-reading-challenge-weekly-check-in/2023-06-14/
LOCATION:Zoom
CATEGORIES:Program,Summer Reading
ORGANIZER;CN="Escape Velocity Resources Foundation Inc":MAILTO:escapevelocityfoundationinc@gmail.com
END:VEVENT
BEGIN:VEVENT
DTSTART;TZID=America/Los_Angeles:20230621T183000
DTEND;TZID=America/Los_Angeles:20230621T193000
DTSTAMP:20260423T040737
CREATED:20230525T152311Z
LAST-MODIFIED:20230525T152311Z
UID:10000746-1687372200-1687375800@escapevelocityfoundation.com
SUMMARY:Summer Reading Challenge Weekly Check-in
DESCRIPTION:
URL:https://escapevelocityfoundation.com/event/summer-reading-challenge-weekly-check-in/2023-06-21/
LOCATION:Zoom
CATEGORIES:Program,Summer Reading
ORGANIZER;CN="Escape Velocity Resources Foundation Inc":MAILTO:escapevelocityfoundationinc@gmail.com
END:VEVENT
BEGIN:VEVENT
DTSTART;TZID=America/Los_Angeles:20230628T183000
DTEND;TZID=America/Los_Angeles:20230628T193000
DTSTAMP:20260423T040737
CREATED:20230525T152311Z
LAST-MODIFIED:20230525T152311Z
UID:10000747-1687977000-1687980600@escapevelocityfoundation.com
SUMMARY:Summer Reading Challenge Weekly Check-in
DESCRIPTION:
URL:https://escapevelocityfoundation.com/event/summer-reading-challenge-weekly-check-in/2023-06-28/
LOCATION:Zoom
CATEGORIES:Program,Summer Reading
ORGANIZER;CN="Escape Velocity Resources Foundation Inc":MAILTO:escapevelocityfoundationinc@gmail.com
END:VEVENT
BEGIN:VEVENT
DTSTART;TZID=America/Los_Angeles:20230701T100000
DTEND;TZID=America/Los_Angeles:20230701T120000
DTSTAMP:20260423T040737
CREATED:20230623T174110Z
LAST-MODIFIED:20230623T174110Z
UID:10000770-1688205600-1688212800@escapevelocityfoundation.com
SUMMARY:Summer Reading Challenge Monthly Meetup
DESCRIPTION:Summer Reading Challenge youth and parents will meetup and have a fun time with food\, activities\, games\, art\, free books\, a trip to the library and announcement of the winners for the month of June.
URL:https://escapevelocityfoundation.com/event/summer-reading-challenge-monthly-meetup/
LOCATION:Shasta Park
CATEGORIES:Program,Summer Reading,Youth Event
ORGANIZER;CN="Escape Velocity Resources Foundation Inc":MAILTO:escapevelocityfoundationinc@gmail.com
END:VEVENT
BEGIN:VEVENT
DTSTART;TZID=America/Los_Angeles:20230705T183000
DTEND;TZID=America/Los_Angeles:20230705T193000
DTSTAMP:20260423T040737
CREATED:20230525T152311Z
LAST-MODIFIED:20230525T152311Z
UID:10000748-1688581800-1688585400@escapevelocityfoundation.com
SUMMARY:Summer Reading Challenge Weekly Check-in
DESCRIPTION:
URL:https://escapevelocityfoundation.com/event/summer-reading-challenge-weekly-check-in/2023-07-05/
LOCATION:Zoom
CATEGORIES:Program,Summer Reading
ORGANIZER;CN="Escape Velocity Resources Foundation Inc":MAILTO:escapevelocityfoundationinc@gmail.com
END:VEVENT
BEGIN:VEVENT
DTSTART;TZID=America/Los_Angeles:20230712T183000
DTEND;TZID=America/Los_Angeles:20230712T193000
DTSTAMP:20260423T040737
CREATED:20230525T152311Z
LAST-MODIFIED:20230525T152311Z
UID:10000749-1689186600-1689190200@escapevelocityfoundation.com
SUMMARY:Summer Reading Challenge Weekly Check-in
DESCRIPTION:
URL:https://escapevelocityfoundation.com/event/summer-reading-challenge-weekly-check-in/2023-07-12/
LOCATION:Zoom
CATEGORIES:Program,Summer Reading
ORGANIZER;CN="Escape Velocity Resources Foundation Inc":MAILTO:escapevelocityfoundationinc@gmail.com
END:VEVENT
BEGIN:VEVENT
DTSTART;TZID=America/Los_Angeles:20230719T183000
DTEND;TZID=America/Los_Angeles:20230719T193000
DTSTAMP:20260423T040737
CREATED:20230525T152311Z
LAST-MODIFIED:20230525T152311Z
UID:10000750-1689791400-1689795000@escapevelocityfoundation.com
SUMMARY:Summer Reading Challenge Weekly Check-in
DESCRIPTION:
URL:https://escapevelocityfoundation.com/event/summer-reading-challenge-weekly-check-in/2023-07-19/
LOCATION:Zoom
CATEGORIES:Program,Summer Reading
ORGANIZER;CN="Escape Velocity Resources Foundation Inc":MAILTO:escapevelocityfoundationinc@gmail.com
END:VEVENT
BEGIN:VEVENT
DTSTART;TZID=America/Los_Angeles:20230726T183000
DTEND;TZID=America/Los_Angeles:20230726T193000
DTSTAMP:20260423T040737
CREATED:20230525T152311Z
LAST-MODIFIED:20230525T152311Z
UID:10000751-1690396200-1690399800@escapevelocityfoundation.com
SUMMARY:Summer Reading Challenge Weekly Check-in
DESCRIPTION:
URL:https://escapevelocityfoundation.com/event/summer-reading-challenge-weekly-check-in/2023-07-26/
LOCATION:Zoom
CATEGORIES:Program,Summer Reading
ORGANIZER;CN="Escape Velocity Resources Foundation Inc":MAILTO:escapevelocityfoundationinc@gmail.com
END:VEVENT
BEGIN:VEVENT
DTSTART;TZID=America/Los_Angeles:20230802T183000
DTEND;TZID=America/Los_Angeles:20230802T193000
DTSTAMP:20260423T040737
CREATED:20230525T152311Z
LAST-MODIFIED:20230525T152311Z
UID:10000752-1691001000-1691004600@escapevelocityfoundation.com
SUMMARY:Summer Reading Challenge Weekly Check-in
DESCRIPTION:
URL:https://escapevelocityfoundation.com/event/summer-reading-challenge-weekly-check-in/2023-08-02/
LOCATION:Zoom
CATEGORIES:Program,Summer Reading
ORGANIZER;CN="Escape Velocity Resources Foundation Inc":MAILTO:escapevelocityfoundationinc@gmail.com
END:VEVENT
BEGIN:VEVENT
DTSTART;TZID=America/Los_Angeles:20230809T183000
DTEND;TZID=America/Los_Angeles:20230809T193000
DTSTAMP:20260423T040737
CREATED:20230525T152311Z
LAST-MODIFIED:20230525T152311Z
UID:10000753-1691605800-1691609400@escapevelocityfoundation.com
SUMMARY:Summer Reading Challenge Weekly Check-in
DESCRIPTION:
URL:https://escapevelocityfoundation.com/event/summer-reading-challenge-weekly-check-in/2023-08-09/
LOCATION:Zoom
CATEGORIES:Program,Summer Reading
ORGANIZER;CN="Escape Velocity Resources Foundation Inc":MAILTO:escapevelocityfoundationinc@gmail.com
END:VEVENT
BEGIN:VEVENT
DTSTART;TZID=America/Los_Angeles:20230816T183000
DTEND;TZID=America/Los_Angeles:20230816T193000
DTSTAMP:20260423T040737
CREATED:20230525T152311Z
LAST-MODIFIED:20230525T152311Z
UID:10000754-1692210600-1692214200@escapevelocityfoundation.com
SUMMARY:Summer Reading Challenge Weekly Check-in
DESCRIPTION:
URL:https://escapevelocityfoundation.com/event/summer-reading-challenge-weekly-check-in/2023-08-16/
LOCATION:Zoom
CATEGORIES:Program,Summer Reading
ORGANIZER;CN="Escape Velocity Resources Foundation Inc":MAILTO:escapevelocityfoundationinc@gmail.com
END:VEVENT
BEGIN:VEVENT
DTSTART;TZID=America/Los_Angeles:20230823T183000
DTEND;TZID=America/Los_Angeles:20230823T193000
DTSTAMP:20260423T040737
CREATED:20230525T152311Z
LAST-MODIFIED:20230525T152311Z
UID:10000755-1692815400-1692819000@escapevelocityfoundation.com
SUMMARY:Summer Reading Challenge Weekly Check-in
DESCRIPTION:
URL:https://escapevelocityfoundation.com/event/summer-reading-challenge-weekly-check-in/2023-08-23/
LOCATION:Zoom
CATEGORIES:Program,Summer Reading
ORGANIZER;CN="Escape Velocity Resources Foundation Inc":MAILTO:escapevelocityfoundationinc@gmail.com
END:VEVENT
BEGIN:VEVENT
DTSTART;TZID=America/Los_Angeles:20230830T183000
DTEND;TZID=America/Los_Angeles:20230830T193000
DTSTAMP:20260423T040737
CREATED:20230525T152311Z
LAST-MODIFIED:20230525T152311Z
UID:10000756-1693420200-1693423800@escapevelocityfoundation.com
SUMMARY:Summer Reading Challenge Weekly Check-in
DESCRIPTION:
URL:https://escapevelocityfoundation.com/event/summer-reading-challenge-weekly-check-in/2023-08-30/
LOCATION:Zoom
CATEGORIES:Program,Summer Reading
ORGANIZER;CN="Escape Velocity Resources Foundation Inc":MAILTO:escapevelocityfoundationinc@gmail.com
END:VEVENT
BEGIN:VEVENT
DTSTART;TZID=America/Los_Angeles:20230902T100000
DTEND;TZID=America/Los_Angeles:20230902T113000
DTSTAMP:20260423T040737
CREATED:20230906T232427Z
LAST-MODIFIED:20230906T232427Z
UID:10000815-1693648800-1693654200@escapevelocityfoundation.com
SUMMARY:Summer Reading Challenge Monthly Meet-up
DESCRIPTION:Our final monthly meet-up for the Summer Reading Challenge. Winners for the month of August and overall winner.
URL:https://escapevelocityfoundation.com/event/summer-reading-challenge-monthly-meet-up/
LOCATION:Shasta Park
CATEGORIES:Community Event,Summer Reading,Youth Event
ORGANIZER;CN="Escape Velocity Resources Foundation Inc":MAILTO:escapevelocityfoundationinc@gmail.com
END:VEVENT
BEGIN:VEVENT
DTSTART;TZID=America/Los_Angeles:20240529T183000
DTEND;TZID=America/Los_Angeles:20240529T193000
DTSTAMP:20260423T040737
CREATED:20240523T053538Z
LAST-MODIFIED:20240523T054451Z
UID:10001038-1717007400-1717011000@escapevelocityfoundation.com
SUMMARY:Summer Reading Challenge Orientation
DESCRIPTION:Youth and parents of the 2024 Summer Reading Challenge are invited to the Orientation to kick-off the Summer Reading program. Youth will pick up their materials and obtain information on the program.
URL:https://escapevelocityfoundation.com/event/summer-reading-challenge-orientation/
LOCATION:Digital Cafe\, 2251 Florin Rd\, 156\, CA\, 95822
CATEGORIES:Summer Reading
ORGANIZER;CN="Escape Velocity Resources Foundation Inc":MAILTO:escapevelocityfoundationinc@gmail.com
END:VEVENT
BEGIN:VEVENT
DTSTART;TZID=America/Los_Angeles:20240605T183000
DTEND;TZID=America/Los_Angeles:20240605T193000
DTSTAMP:20260423T040737
CREATED:20240523T132559Z
LAST-MODIFIED:20240523T133706Z
UID:10001045-1717612200-1717615800@escapevelocityfoundation.com
SUMMARY:Summer Reading Challenge Weekly Check-In
DESCRIPTION:Weekly Zoom Meetings: \n\nFun literary Kahoot games\nProgress updates\nEngaging writing entries\nOpportunities to connect with fellow participants
URL:https://escapevelocityfoundation.com/event/summer-reading-challenge-weekly-check-in-2/2024-06-05/
LOCATION:Zoom
CATEGORIES:Summer Reading
ATTACH;FMTTYPE=image/png:https://escapevelocityfoundation.com/wp-content/uploads/summer-reading-challenge-logo-samples.png
ORGANIZER;CN="Escape Velocity Resources Foundation Inc":MAILTO:escapevelocityfoundationinc@gmail.com
END:VEVENT
BEGIN:VEVENT
DTSTART;TZID=America/Los_Angeles:20240612T183000
DTEND;TZID=America/Los_Angeles:20240612T193000
DTSTAMP:20260423T040737
CREATED:20240523T132559Z
LAST-MODIFIED:20240523T133706Z
UID:10001046-1718217000-1718220600@escapevelocityfoundation.com
SUMMARY:Summer Reading Challenge Weekly Check-In
DESCRIPTION:Weekly Zoom Meetings: \n\nFun literary Kahoot games\nProgress updates\nEngaging writing entries\nOpportunities to connect with fellow participants
URL:https://escapevelocityfoundation.com/event/summer-reading-challenge-weekly-check-in-2/2024-06-12/
LOCATION:Zoom
CATEGORIES:Summer Reading
ATTACH;FMTTYPE=image/png:https://escapevelocityfoundation.com/wp-content/uploads/summer-reading-challenge-logo-samples.png
ORGANIZER;CN="Escape Velocity Resources Foundation Inc":MAILTO:escapevelocityfoundationinc@gmail.com
END:VEVENT
BEGIN:VEVENT
DTSTART;TZID=America/Los_Angeles:20240619T183000
DTEND;TZID=America/Los_Angeles:20240619T193000
DTSTAMP:20260423T040737
CREATED:20240523T132559Z
LAST-MODIFIED:20240523T133706Z
UID:10001047-1718821800-1718825400@escapevelocityfoundation.com
SUMMARY:Summer Reading Challenge Weekly Check-In
DESCRIPTION:Weekly Zoom Meetings: \n\nFun literary Kahoot games\nProgress updates\nEngaging writing entries\nOpportunities to connect with fellow participants
URL:https://escapevelocityfoundation.com/event/summer-reading-challenge-weekly-check-in-2/2024-06-19/
LOCATION:Zoom
CATEGORIES:Summer Reading
ATTACH;FMTTYPE=image/png:https://escapevelocityfoundation.com/wp-content/uploads/summer-reading-challenge-logo-samples.png
ORGANIZER;CN="Escape Velocity Resources Foundation Inc":MAILTO:escapevelocityfoundationinc@gmail.com
END:VEVENT
BEGIN:VEVENT
DTSTART;TZID=America/Los_Angeles:20240626T183000
DTEND;TZID=America/Los_Angeles:20240626T193000
DTSTAMP:20260423T040737
CREATED:20240523T132559Z
LAST-MODIFIED:20240523T133706Z
UID:10001048-1719426600-1719430200@escapevelocityfoundation.com
SUMMARY:Summer Reading Challenge Weekly Check-In
DESCRIPTION:Weekly Zoom Meetings: \n\nFun literary Kahoot games\nProgress updates\nEngaging writing entries\nOpportunities to connect with fellow participants
URL:https://escapevelocityfoundation.com/event/summer-reading-challenge-weekly-check-in-2/2024-06-26/
LOCATION:Zoom
CATEGORIES:Summer Reading
ATTACH;FMTTYPE=image/png:https://escapevelocityfoundation.com/wp-content/uploads/summer-reading-challenge-logo-samples.png
ORGANIZER;CN="Escape Velocity Resources Foundation Inc":MAILTO:escapevelocityfoundationinc@gmail.com
END:VEVENT
BEGIN:VEVENT
DTSTART;TZID=America/Los_Angeles:20240703T183000
DTEND;TZID=America/Los_Angeles:20240703T193000
DTSTAMP:20260423T040737
CREATED:20240523T132559Z
LAST-MODIFIED:20240523T133706Z
UID:10001049-1720031400-1720035000@escapevelocityfoundation.com
SUMMARY:Summer Reading Challenge Weekly Check-In
DESCRIPTION:Weekly Zoom Meetings: \n\nFun literary Kahoot games\nProgress updates\nEngaging writing entries\nOpportunities to connect with fellow participants
URL:https://escapevelocityfoundation.com/event/summer-reading-challenge-weekly-check-in-2/2024-07-03/
LOCATION:Zoom
CATEGORIES:Summer Reading
ATTACH;FMTTYPE=image/png:https://escapevelocityfoundation.com/wp-content/uploads/summer-reading-challenge-logo-samples.png
ORGANIZER;CN="Escape Velocity Resources Foundation Inc":MAILTO:escapevelocityfoundationinc@gmail.com
END:VEVENT
BEGIN:VEVENT
DTSTART;TZID=America/Los_Angeles:20240710T183000
DTEND;TZID=America/Los_Angeles:20240710T193000
DTSTAMP:20260423T040737
CREATED:20240523T132559Z
LAST-MODIFIED:20240523T133706Z
UID:10001050-1720636200-1720639800@escapevelocityfoundation.com
SUMMARY:Summer Reading Challenge Weekly Check-In
DESCRIPTION:Weekly Zoom Meetings: \n\nFun literary Kahoot games\nProgress updates\nEngaging writing entries\nOpportunities to connect with fellow participants
URL:https://escapevelocityfoundation.com/event/summer-reading-challenge-weekly-check-in-2/2024-07-10/
LOCATION:Zoom
CATEGORIES:Summer Reading
ATTACH;FMTTYPE=image/png:https://escapevelocityfoundation.com/wp-content/uploads/summer-reading-challenge-logo-samples.png
ORGANIZER;CN="Escape Velocity Resources Foundation Inc":MAILTO:escapevelocityfoundationinc@gmail.com
END:VEVENT
BEGIN:VEVENT
DTSTART;TZID=America/Los_Angeles:20240717T183000
DTEND;TZID=America/Los_Angeles:20240717T193000
DTSTAMP:20260423T040737
CREATED:20240523T132559Z
LAST-MODIFIED:20240523T133706Z
UID:10001051-1721241000-1721244600@escapevelocityfoundation.com
SUMMARY:Summer Reading Challenge Weekly Check-In
DESCRIPTION:Weekly Zoom Meetings: \n\nFun literary Kahoot games\nProgress updates\nEngaging writing entries\nOpportunities to connect with fellow participants
URL:https://escapevelocityfoundation.com/event/summer-reading-challenge-weekly-check-in-2/2024-07-17/
LOCATION:Zoom
CATEGORIES:Summer Reading
ATTACH;FMTTYPE=image/png:https://escapevelocityfoundation.com/wp-content/uploads/summer-reading-challenge-logo-samples.png
ORGANIZER;CN="Escape Velocity Resources Foundation Inc":MAILTO:escapevelocityfoundationinc@gmail.com
END:VEVENT
BEGIN:VEVENT
DTSTART;TZID=America/Los_Angeles:20240724T183000
DTEND;TZID=America/Los_Angeles:20240724T193000
DTSTAMP:20260423T040737
CREATED:20240523T132559Z
LAST-MODIFIED:20240523T133706Z
UID:10001052-1721845800-1721849400@escapevelocityfoundation.com
SUMMARY:Summer Reading Challenge Weekly Check-In
DESCRIPTION:Weekly Zoom Meetings: \n\nFun literary Kahoot games\nProgress updates\nEngaging writing entries\nOpportunities to connect with fellow participants
URL:https://escapevelocityfoundation.com/event/summer-reading-challenge-weekly-check-in-2/2024-07-24/
LOCATION:Zoom
CATEGORIES:Summer Reading
ATTACH;FMTTYPE=image/png:https://escapevelocityfoundation.com/wp-content/uploads/summer-reading-challenge-logo-samples.png
ORGANIZER;CN="Escape Velocity Resources Foundation Inc":MAILTO:escapevelocityfoundationinc@gmail.com
END:VEVENT
BEGIN:VEVENT
DTSTART;TZID=America/Los_Angeles:20240731T183000
DTEND;TZID=America/Los_Angeles:20240731T193000
DTSTAMP:20260423T040737
CREATED:20240523T132559Z
LAST-MODIFIED:20240523T133706Z
UID:10001053-1722450600-1722454200@escapevelocityfoundation.com
SUMMARY:Summer Reading Challenge Weekly Check-In
DESCRIPTION:Weekly Zoom Meetings: \n\nFun literary Kahoot games\nProgress updates\nEngaging writing entries\nOpportunities to connect with fellow participants
URL:https://escapevelocityfoundation.com/event/summer-reading-challenge-weekly-check-in-2/2024-07-31/
LOCATION:Zoom
CATEGORIES:Summer Reading
ATTACH;FMTTYPE=image/png:https://escapevelocityfoundation.com/wp-content/uploads/summer-reading-challenge-logo-samples.png
ORGANIZER;CN="Escape Velocity Resources Foundation Inc":MAILTO:escapevelocityfoundationinc@gmail.com
END:VEVENT
END:VCALENDAR