BEGIN:VCALENDAR
VERSION:2.0
PRODID:-//Escape Velocity Resources Foundation, Inc - ECPv6.15.20//NONSGML v1.0//EN
CALSCALE:GREGORIAN
METHOD:PUBLISH
X-ORIGINAL-URL:https://escapevelocityfoundation.com
X-WR-CALDESC:Events for Escape Velocity Resources Foundation, Inc
REFRESH-INTERVAL;VALUE=DURATION:PT1H
X-Robots-Tag:noindex
X-PUBLISHED-TTL:PT1H
BEGIN:VTIMEZONE
TZID:America/Los_Angeles
BEGIN:DAYLIGHT
TZOFFSETFROM:-0800
TZOFFSETTO:-0700
TZNAME:PDT
DTSTART:20210314T100000
END:DAYLIGHT
BEGIN:STANDARD
TZOFFSETFROM:-0700
TZOFFSETTO:-0800
TZNAME:PST
DTSTART:20211107T090000
END:STANDARD
BEGIN:DAYLIGHT
TZOFFSETFROM:-0800
TZOFFSETTO:-0700
TZNAME:PDT
DTSTART:20220313T100000
END:DAYLIGHT
BEGIN:STANDARD
TZOFFSETFROM:-0700
TZOFFSETTO:-0800
TZNAME:PST
DTSTART:20221106T090000
END:STANDARD
BEGIN:DAYLIGHT
TZOFFSETFROM:-0800
TZOFFSETTO:-0700
TZNAME:PDT
DTSTART:20230312T100000
END:DAYLIGHT
BEGIN:STANDARD
TZOFFSETFROM:-0700
TZOFFSETTO:-0800
TZNAME:PST
DTSTART:20231105T090000
END:STANDARD
BEGIN:DAYLIGHT
TZOFFSETFROM:-0800
TZOFFSETTO:-0700
TZNAME:PDT
DTSTART:20240310T100000
END:DAYLIGHT
BEGIN:STANDARD
TZOFFSETFROM:-0700
TZOFFSETTO:-0800
TZNAME:PST
DTSTART:20241103T090000
END:STANDARD
BEGIN:DAYLIGHT
TZOFFSETFROM:-0800
TZOFFSETTO:-0700
TZNAME:PDT
DTSTART:20250309T100000
END:DAYLIGHT
BEGIN:STANDARD
TZOFFSETFROM:-0700
TZOFFSETTO:-0800
TZNAME:PST
DTSTART:20251102T090000
END:STANDARD
END:VTIMEZONE
BEGIN:VEVENT
DTSTART;TZID=America/Los_Angeles:20220611T130000
DTEND;TZID=America/Los_Angeles:20220611T140000
DTSTAMP:20260423T204953
CREATED:20220608T002953Z
LAST-MODIFIED:20220608T003209Z
UID:10000407-1654952400-1654956000@escapevelocityfoundation.com
SUMMARY:Mother/Daughter Table Talk
DESCRIPTION:Join South Sacramento Healthy Black Families Ambassadors\, Astrid and her daughter Valencia as they set the stage for real talk discussions among mothers/daughters. \nThis month there will be a family listening session. Theme: The Freedom to Heal: Breaking Chains. \nJoin in person for light refreshments and prizes. \nYou can join virtually via Zoom as well. \nPlease register via Eventbrite.
URL:https://escapevelocityfoundation.com/event/mother-daughter-table-talk-2/
LOCATION:Sojourner Truth Multicultural Art Museum\, 2251 Florin Rd\, #126\, Sacramento\, CA\, 95822\, United States
CATEGORIES:Community Event,Youth Ambassador
ATTACH;FMTTYPE=image/png:https://escapevelocityfoundation.com/wp-content/uploads/61122-MotherDaughter-and-The-Freedom-to-Heal-Flyer-1.png
ORGANIZER;CN="Escape Velocity Resources Foundation Inc":MAILTO:escapevelocityfoundationinc@gmail.com
END:VEVENT
BEGIN:VEVENT
DTSTART;TZID=America/Los_Angeles:20220613T170000
DTEND;TZID=America/Los_Angeles:20220613T180000
DTSTAMP:20260423T204953
CREATED:20220606T001249Z
LAST-MODIFIED:20220606T001726Z
UID:10000404-1655139600-1655143200@escapevelocityfoundation.com
SUMMARY:Youth Ambassador Meeting
DESCRIPTION:Virtual meeting with our youth ambassadors. Discussing summer programming and activities.
URL:https://escapevelocityfoundation.com/event/youth-ambassador-meeting/
LOCATION:CA
CATEGORIES:Youth Ambassador
ATTACH;FMTTYPE=image/png:https://escapevelocityfoundation.com/wp-content/uploads/Youth-ambassador-logo-website-300-x-300-px.png
ORGANIZER;CN="Escape Velocity Resources Foundation Inc":MAILTO:escapevelocityfoundationinc@gmail.com
END:VEVENT
BEGIN:VEVENT
DTSTART;TZID=America/Los_Angeles:20220620T170000
DTEND;TZID=America/Los_Angeles:20220620T180000
DTSTAMP:20260423T204953
CREATED:20220606T001622Z
LAST-MODIFIED:20220606T001622Z
UID:10000405-1655744400-1655748000@escapevelocityfoundation.com
SUMMARY:Youth Ambassador Meeting
DESCRIPTION:Virtual meeting with our youth ambassadors. Discussing summer programming and activities.
URL:https://escapevelocityfoundation.com/event/youth-ambassador-meeting-2/
LOCATION:CA
CATEGORIES:Youth Ambassador
ATTACH;FMTTYPE=image/png:https://escapevelocityfoundation.com/wp-content/uploads/Youth-ambassador-logo-website-300-x-300-px.png
ORGANIZER;CN="Escape Velocity Resources Foundation Inc":MAILTO:escapevelocityfoundationinc@gmail.com
END:VEVENT
BEGIN:VEVENT
DTSTART;TZID=America/Los_Angeles:20230826T100000
DTEND;TZID=America/Los_Angeles:20230826T110000
DTSTAMP:20260423T204953
CREATED:20230809T203227Z
LAST-MODIFIED:20230809T203227Z
UID:10000775-1693044000-1693047600@escapevelocityfoundation.com
SUMMARY:FRCBP YACS Workshop
DESCRIPTION:Monthly learning workshop for Youth Ambassador Community Squad. Topic is Environmental Justice.
URL:https://escapevelocityfoundation.com/event/frcbp-yacs-workshop/
LOCATION:Sojourner Truth Multicultural Art Museum\, 2251 Florin Rd\, #126\, Sacramento\, CA\, 95822\, United States
CATEGORIES:FRCBP,Youth Ambassador,Youth Event
ORGANIZER;CN="Escape Velocity Resources Foundation Inc":MAILTO:escapevelocityfoundationinc@gmail.com
END:VEVENT
BEGIN:VEVENT
DTSTART;TZID=America/Los_Angeles:20240127T180000
DTEND;TZID=America/Los_Angeles:20240127T210000
DTSTAMP:20260423T204953
CREATED:20240112T165408Z
LAST-MODIFIED:20240112T165408Z
UID:10000985-1706378400-1706389200@escapevelocityfoundation.com
SUMMARY:SacTownYouthNights - Glow in the Dark Party
DESCRIPTION:
URL:https://escapevelocityfoundation.com/event/sactownyouthnights-glow-in-the-dark-party/
LOCATION:Florin Square\, 2251 Florin Road\, Sacramento\, CA\, 95822\, United States
CATEGORIES:Community Event,Youth Ambassador,Youth Event
ORGANIZER;CN="Escape Velocity Resources Foundation Inc":MAILTO:escapevelocityfoundationinc@gmail.com
END:VEVENT
END:VCALENDAR