BEGIN:VCALENDAR
VERSION:2.0
PRODID:-//Escape Velocity Resources Foundation, Inc - ECPv6.15.20//NONSGML v1.0//EN
CALSCALE:GREGORIAN
METHOD:PUBLISH
X-WR-CALNAME:Escape Velocity Resources Foundation, Inc
X-ORIGINAL-URL:https://escapevelocityfoundation.com
X-WR-CALDESC:Events for Escape Velocity Resources Foundation, Inc
REFRESH-INTERVAL;VALUE=DURATION:PT1H
X-Robots-Tag:noindex
X-PUBLISHED-TTL:PT1H
BEGIN:VTIMEZONE
TZID:America/Los_Angeles
BEGIN:DAYLIGHT
TZOFFSETFROM:-0800
TZOFFSETTO:-0700
TZNAME:PDT
DTSTART:20240310T100000
END:DAYLIGHT
BEGIN:STANDARD
TZOFFSETFROM:-0700
TZOFFSETTO:-0800
TZNAME:PST
DTSTART:20241103T090000
END:STANDARD
BEGIN:DAYLIGHT
TZOFFSETFROM:-0800
TZOFFSETTO:-0700
TZNAME:PDT
DTSTART:20250309T100000
END:DAYLIGHT
BEGIN:STANDARD
TZOFFSETFROM:-0700
TZOFFSETTO:-0800
TZNAME:PST
DTSTART:20251102T090000
END:STANDARD
BEGIN:DAYLIGHT
TZOFFSETFROM:-0800
TZOFFSETTO:-0700
TZNAME:PDT
DTSTART:20260308T100000
END:DAYLIGHT
BEGIN:STANDARD
TZOFFSETFROM:-0700
TZOFFSETTO:-0800
TZNAME:PST
DTSTART:20261101T090000
END:STANDARD
BEGIN:DAYLIGHT
TZOFFSETFROM:-0800
TZOFFSETTO:-0700
TZNAME:PDT
DTSTART:20270314T100000
END:DAYLIGHT
BEGIN:STANDARD
TZOFFSETFROM:-0700
TZOFFSETTO:-0800
TZNAME:PST
DTSTART:20271107T090000
END:STANDARD
BEGIN:DAYLIGHT
TZOFFSETFROM:-0800
TZOFFSETTO:-0700
TZNAME:PDT
DTSTART:20280312T100000
END:DAYLIGHT
BEGIN:STANDARD
TZOFFSETFROM:-0700
TZOFFSETTO:-0800
TZNAME:PST
DTSTART:20281105T090000
END:STANDARD
END:VTIMEZONE
BEGIN:VEVENT
DTSTART;TZID=America/Los_Angeles:20250913T180000
DTEND;TZID=America/Los_Angeles:20250913T200000
DTSTAMP:20260424T085528
CREATED:20250911T163534Z
LAST-MODIFIED:20250911T163534Z
UID:10001148-1757786400-1757793600@escapevelocityfoundation.com
SUMMARY:Harmony in the Hood
DESCRIPTION:
URL:https://escapevelocityfoundation.com/event/harmony-in-the-hood/
LOCATION:Fruit Ridge Community Collaborative\, 4625 44th Street\, Sacramento\, CA\, 95820\, United States
CATEGORIES:Community Event,Stop the Hate,Youth Event
ORGANIZER;CN="Hooked on Fishing Not on Violence":MAILTO:info@hookedonfishingnotonviolence.org
END:VEVENT
BEGIN:VEVENT
DTSTART;TZID=America/Los_Angeles:20250920T130000
DTEND;TZID=America/Los_Angeles:20250920T140000
DTSTAMP:20260424T085528
CREATED:20250929T215129Z
LAST-MODIFIED:20250929T215129Z
UID:10001151-1758373200-1758376800@escapevelocityfoundation.com
SUMMARY:Mother Daughter Table Talk - Letting Go
DESCRIPTION:
URL:https://escapevelocityfoundation.com/event/mother-daughter-table-talk-letting-go/
LOCATION:Sojourner Truth Multicultural Art Museum\, 2251 Florin Rd\, #126\, Sacramento\, CA\, 95822\, United States
CATEGORIES:Community Event
ORGANIZER;CN="Escape Velocity Resources Foundation Inc":MAILTO:escapevelocityfoundationinc@gmail.com
END:VEVENT
BEGIN:VEVENT
DTSTART;TZID=America/Los_Angeles:20250926T180000
DTEND;TZID=America/Los_Angeles:20250926T210000
DTSTAMP:20260424T085528
CREATED:20250929T214847Z
LAST-MODIFIED:20250929T214847Z
UID:10001150-1758909600-1758920400@escapevelocityfoundation.com
SUMMARY:SacTownYouthNights at Rebounderz
DESCRIPTION:
URL:https://escapevelocityfoundation.com/event/sactownyouthnights-at-rebounderz/
LOCATION:Rebounderz\, 2401 Butano Dr\,\, Sacramento\, CA\, 95825\, United States
CATEGORIES:Youth Event
ORGANIZER;CN="Escape Velocity Resources Foundation Inc":MAILTO:escapevelocityfoundationinc@gmail.com
END:VEVENT
BEGIN:VEVENT
DTSTART;TZID=America/Los_Angeles:20250927T100000
DTEND;TZID=America/Los_Angeles:20250927T130000
DTSTAMP:20260424T085528
CREATED:20250929T214611Z
LAST-MODIFIED:20250929T214611Z
UID:10001149-1758967200-1758978000@escapevelocityfoundation.com
SUMMARY:Sacramento Literacy Festival
DESCRIPTION:
URL:https://escapevelocityfoundation.com/event/sacramento-literacy-festival-2/
LOCATION:McClatchy Park\, 3500 5th Ave\, Sacramento\, CA\, 95817\, United States
CATEGORIES:Community Event
ORGANIZER;CN="Escape Velocity Resources Foundation Inc":MAILTO:escapevelocityfoundationinc@gmail.com
END:VEVENT
BEGIN:VEVENT
DTSTART;TZID=America/Los_Angeles:20251001T100000
DTEND;TZID=America/Los_Angeles:20251001T110000
DTSTAMP:20260424T085528
CREATED:20231115T013816Z
LAST-MODIFIED:20231115T014053Z
UID:10000841-1759312800-1759316400@escapevelocityfoundation.com
SUMMARY:Sacramento Literacy Coalition Meeting
DESCRIPTION:Monthly literacy coalition meeting \nLiteracy Coalition Monthly Check-In
URL:https://escapevelocityfoundation.com/event/sacramento-literacy-coalition-meeting-2/2025-10-01/
LOCATION:Zoom
CATEGORIES:literacy,Meeting
ORGANIZER;CN="Escape Velocity Resources Foundation Inc":MAILTO:escapevelocityfoundationinc@gmail.com
END:VEVENT
BEGIN:VEVENT
DTSTART;TZID=America/Los_Angeles:20251004T140000
DTEND;TZID=America/Los_Angeles:20251004T170000
DTSTAMP:20260424T085528
CREATED:20250929T215756Z
LAST-MODIFIED:20250929T215756Z
UID:10001152-1759586400-1759597200@escapevelocityfoundation.com
SUMMARY:Bringing the Pieces Together: Community Day (Outreach)
DESCRIPTION:
URL:https://escapevelocityfoundation.com/event/bringing-the-pieces-together-community-day-outreach/
LOCATION:Blessed Faith Ministries\, 3400 Y Street\, Sacramento\, CA\, 95817\, United States
CATEGORIES:Community Event
ORGANIZER;CN="Escape Velocity Resources Foundation Inc":MAILTO:escapevelocityfoundationinc@gmail.com
END:VEVENT
BEGIN:VEVENT
DTSTART;TZID=America/Los_Angeles:20251011T130000
DTEND;TZID=America/Los_Angeles:20251011T140000
DTSTAMP:20260424T085528
CREATED:20250929T220136Z
LAST-MODIFIED:20250929T220136Z
UID:10001153-1760187600-1760191200@escapevelocityfoundation.com
SUMMARY:Mother Daughter Table Talk: Breaking the Silence
DESCRIPTION:Join us to bring awareness about domestic violence. \nBreaking the Silence-Building Safe Love
URL:https://escapevelocityfoundation.com/event/mother-daughter-table-talk-breaking-the-silence/
LOCATION:Sojourner Truth Multicultural Art Museum\, 2251 Florin Rd\, #126\, Sacramento\, CA\, 95822\, United States
CATEGORIES:Community Event,Mother Daughter Table Talk
ORGANIZER;CN="Escape Velocity Resources Foundation Inc":MAILTO:escapevelocityfoundationinc@gmail.com
END:VEVENT
BEGIN:VEVENT
DTSTART;TZID=America/Los_Angeles:20251031T170000
DTEND;TZID=America/Los_Angeles:20251031T200000
DTSTAMP:20260424T085528
CREATED:20250929T220829Z
LAST-MODIFIED:20250929T221138Z
UID:10001154-1761930000-1761940800@escapevelocityfoundation.com
SUMMARY:SacTownYouthNights - Trunk or Treat
DESCRIPTION:Register at –  https://bit.ly/styn-2025
URL:https://escapevelocityfoundation.com/event/sactownyouthnights-trunk-or-treat/
LOCATION:Mack Rd Valley Hi Community Center\, 7833 Center Parkway\, Sacramento\, CA\, 95823\, United States
CATEGORIES:Community Event,Youth Event
ORGANIZER;CN="Escape Velocity Resources Foundation Inc":MAILTO:escapevelocityfoundationinc@gmail.com
END:VEVENT
BEGIN:VEVENT
DTSTART;TZID=America/Los_Angeles:20251105T100000
DTEND;TZID=America/Los_Angeles:20251105T110000
DTSTAMP:20260424T085528
CREATED:20231115T013816Z
LAST-MODIFIED:20231115T014053Z
UID:10000842-1762336800-1762340400@escapevelocityfoundation.com
SUMMARY:Sacramento Literacy Coalition Meeting
DESCRIPTION:Monthly literacy coalition meeting \nLiteracy Coalition Monthly Check-In
URL:https://escapevelocityfoundation.com/event/sacramento-literacy-coalition-meeting-2/2025-11-05/
LOCATION:Zoom
CATEGORIES:literacy,Meeting
ORGANIZER;CN="Escape Velocity Resources Foundation Inc":MAILTO:escapevelocityfoundationinc@gmail.com
END:VEVENT
BEGIN:VEVENT
DTSTART;TZID=America/Los_Angeles:20251203T100000
DTEND;TZID=America/Los_Angeles:20251203T110000
DTSTAMP:20260424T085528
CREATED:20231115T013816Z
LAST-MODIFIED:20231115T014053Z
UID:10000843-1764756000-1764759600@escapevelocityfoundation.com
SUMMARY:Sacramento Literacy Coalition Meeting
DESCRIPTION:Monthly literacy coalition meeting \nLiteracy Coalition Monthly Check-In
URL:https://escapevelocityfoundation.com/event/sacramento-literacy-coalition-meeting-2/2025-12-03/
LOCATION:Zoom
CATEGORIES:literacy,Meeting
ORGANIZER;CN="Escape Velocity Resources Foundation Inc":MAILTO:escapevelocityfoundationinc@gmail.com
END:VEVENT
BEGIN:VEVENT
DTSTART;TZID=America/Los_Angeles:20260107T100000
DTEND;TZID=America/Los_Angeles:20260107T110000
DTSTAMP:20260424T085528
CREATED:20231115T013816Z
LAST-MODIFIED:20231115T014053Z
UID:10000844-1767780000-1767783600@escapevelocityfoundation.com
SUMMARY:Sacramento Literacy Coalition Meeting
DESCRIPTION:Monthly literacy coalition meeting \nLiteracy Coalition Monthly Check-In
URL:https://escapevelocityfoundation.com/event/sacramento-literacy-coalition-meeting-2/2026-01-07/
LOCATION:Zoom
CATEGORIES:literacy,Meeting
ORGANIZER;CN="Escape Velocity Resources Foundation Inc":MAILTO:escapevelocityfoundationinc@gmail.com
END:VEVENT
BEGIN:VEVENT
DTSTART;TZID=America/Los_Angeles:20260204T100000
DTEND;TZID=America/Los_Angeles:20260204T110000
DTSTAMP:20260424T085528
CREATED:20231115T013816Z
LAST-MODIFIED:20231115T014053Z
UID:10000845-1770199200-1770202800@escapevelocityfoundation.com
SUMMARY:Sacramento Literacy Coalition Meeting
DESCRIPTION:Monthly literacy coalition meeting \nLiteracy Coalition Monthly Check-In
URL:https://escapevelocityfoundation.com/event/sacramento-literacy-coalition-meeting-2/2026-02-04/
LOCATION:Zoom
CATEGORIES:literacy,Meeting
ORGANIZER;CN="Escape Velocity Resources Foundation Inc":MAILTO:escapevelocityfoundationinc@gmail.com
END:VEVENT
BEGIN:VEVENT
DTSTART;TZID=America/Los_Angeles:20260304T100000
DTEND;TZID=America/Los_Angeles:20260304T110000
DTSTAMP:20260424T085528
CREATED:20231115T013816Z
LAST-MODIFIED:20231115T014053Z
UID:10000846-1772618400-1772622000@escapevelocityfoundation.com
SUMMARY:Sacramento Literacy Coalition Meeting
DESCRIPTION:Monthly literacy coalition meeting \nLiteracy Coalition Monthly Check-In
URL:https://escapevelocityfoundation.com/event/sacramento-literacy-coalition-meeting-2/2026-03-04/
LOCATION:Zoom
CATEGORIES:literacy,Meeting
ORGANIZER;CN="Escape Velocity Resources Foundation Inc":MAILTO:escapevelocityfoundationinc@gmail.com
END:VEVENT
BEGIN:VEVENT
DTSTART;TZID=America/Los_Angeles:20260401T100000
DTEND;TZID=America/Los_Angeles:20260401T110000
DTSTAMP:20260424T085528
CREATED:20231115T013816Z
LAST-MODIFIED:20231115T014053Z
UID:10000847-1775037600-1775041200@escapevelocityfoundation.com
SUMMARY:Sacramento Literacy Coalition Meeting
DESCRIPTION:Monthly literacy coalition meeting \nLiteracy Coalition Monthly Check-In
URL:https://escapevelocityfoundation.com/event/sacramento-literacy-coalition-meeting-2/2026-04-01/
LOCATION:Zoom
CATEGORIES:literacy,Meeting
ORGANIZER;CN="Escape Velocity Resources Foundation Inc":MAILTO:escapevelocityfoundationinc@gmail.com
END:VEVENT
BEGIN:VEVENT
DTSTART;TZID=America/Los_Angeles:20260506T100000
DTEND;TZID=America/Los_Angeles:20260506T110000
DTSTAMP:20260424T085528
CREATED:20231115T013816Z
LAST-MODIFIED:20231115T014053Z
UID:10000848-1778061600-1778065200@escapevelocityfoundation.com
SUMMARY:Sacramento Literacy Coalition Meeting
DESCRIPTION:Monthly literacy coalition meeting \nLiteracy Coalition Monthly Check-In
URL:https://escapevelocityfoundation.com/event/sacramento-literacy-coalition-meeting-2/2026-05-06/
LOCATION:Zoom
CATEGORIES:literacy,Meeting
ORGANIZER;CN="Escape Velocity Resources Foundation Inc":MAILTO:escapevelocityfoundationinc@gmail.com
END:VEVENT
BEGIN:VEVENT
DTSTART;TZID=America/Los_Angeles:20260603T100000
DTEND;TZID=America/Los_Angeles:20260603T110000
DTSTAMP:20260424T085528
CREATED:20231115T013816Z
LAST-MODIFIED:20231115T014053Z
UID:10000849-1780480800-1780484400@escapevelocityfoundation.com
SUMMARY:Sacramento Literacy Coalition Meeting
DESCRIPTION:Monthly literacy coalition meeting \nLiteracy Coalition Monthly Check-In
URL:https://escapevelocityfoundation.com/event/sacramento-literacy-coalition-meeting-2/2026-06-03/
LOCATION:Zoom
CATEGORIES:literacy,Meeting
ORGANIZER;CN="Escape Velocity Resources Foundation Inc":MAILTO:escapevelocityfoundationinc@gmail.com
END:VEVENT
BEGIN:VEVENT
DTSTART;TZID=America/Los_Angeles:20260701T100000
DTEND;TZID=America/Los_Angeles:20260701T110000
DTSTAMP:20260424T085528
CREATED:20231115T013816Z
LAST-MODIFIED:20231115T014053Z
UID:10000850-1782900000-1782903600@escapevelocityfoundation.com
SUMMARY:Sacramento Literacy Coalition Meeting
DESCRIPTION:Monthly literacy coalition meeting \nLiteracy Coalition Monthly Check-In
URL:https://escapevelocityfoundation.com/event/sacramento-literacy-coalition-meeting-2/2026-07-01/
LOCATION:Zoom
CATEGORIES:literacy,Meeting
ORGANIZER;CN="Escape Velocity Resources Foundation Inc":MAILTO:escapevelocityfoundationinc@gmail.com
END:VEVENT
BEGIN:VEVENT
DTSTART;TZID=America/Los_Angeles:20260805T100000
DTEND;TZID=America/Los_Angeles:20260805T110000
DTSTAMP:20260424T085528
CREATED:20231115T013816Z
LAST-MODIFIED:20231115T014053Z
UID:10000851-1785924000-1785927600@escapevelocityfoundation.com
SUMMARY:Sacramento Literacy Coalition Meeting
DESCRIPTION:Monthly literacy coalition meeting \nLiteracy Coalition Monthly Check-In
URL:https://escapevelocityfoundation.com/event/sacramento-literacy-coalition-meeting-2/2026-08-05/
LOCATION:Zoom
CATEGORIES:literacy,Meeting
ORGANIZER;CN="Escape Velocity Resources Foundation Inc":MAILTO:escapevelocityfoundationinc@gmail.com
END:VEVENT
BEGIN:VEVENT
DTSTART;TZID=America/Los_Angeles:20260902T100000
DTEND;TZID=America/Los_Angeles:20260902T110000
DTSTAMP:20260424T085528
CREATED:20231115T013816Z
LAST-MODIFIED:20231115T014053Z
UID:10000852-1788343200-1788346800@escapevelocityfoundation.com
SUMMARY:Sacramento Literacy Coalition Meeting
DESCRIPTION:Monthly literacy coalition meeting \nLiteracy Coalition Monthly Check-In
URL:https://escapevelocityfoundation.com/event/sacramento-literacy-coalition-meeting-2/2026-09-02/
LOCATION:Zoom
CATEGORIES:literacy,Meeting
ORGANIZER;CN="Escape Velocity Resources Foundation Inc":MAILTO:escapevelocityfoundationinc@gmail.com
END:VEVENT
BEGIN:VEVENT
DTSTART;TZID=America/Los_Angeles:20261007T100000
DTEND;TZID=America/Los_Angeles:20261007T110000
DTSTAMP:20260424T085528
CREATED:20231115T013816Z
LAST-MODIFIED:20231115T014053Z
UID:10000853-1791367200-1791370800@escapevelocityfoundation.com
SUMMARY:Sacramento Literacy Coalition Meeting
DESCRIPTION:Monthly literacy coalition meeting \nLiteracy Coalition Monthly Check-In
URL:https://escapevelocityfoundation.com/event/sacramento-literacy-coalition-meeting-2/2026-10-07/
LOCATION:Zoom
CATEGORIES:literacy,Meeting
ORGANIZER;CN="Escape Velocity Resources Foundation Inc":MAILTO:escapevelocityfoundationinc@gmail.com
END:VEVENT
BEGIN:VEVENT
DTSTART;TZID=America/Los_Angeles:20261104T100000
DTEND;TZID=America/Los_Angeles:20261104T110000
DTSTAMP:20260424T085528
CREATED:20231115T013816Z
LAST-MODIFIED:20231115T014053Z
UID:10000854-1793786400-1793790000@escapevelocityfoundation.com
SUMMARY:Sacramento Literacy Coalition Meeting
DESCRIPTION:Monthly literacy coalition meeting \nLiteracy Coalition Monthly Check-In
URL:https://escapevelocityfoundation.com/event/sacramento-literacy-coalition-meeting-2/2026-11-04/
LOCATION:Zoom
CATEGORIES:literacy,Meeting
ORGANIZER;CN="Escape Velocity Resources Foundation Inc":MAILTO:escapevelocityfoundationinc@gmail.com
END:VEVENT
BEGIN:VEVENT
DTSTART;TZID=America/Los_Angeles:20261202T100000
DTEND;TZID=America/Los_Angeles:20261202T110000
DTSTAMP:20260424T085528
CREATED:20231115T013816Z
LAST-MODIFIED:20231115T014053Z
UID:10000855-1796205600-1796209200@escapevelocityfoundation.com
SUMMARY:Sacramento Literacy Coalition Meeting
DESCRIPTION:Monthly literacy coalition meeting \nLiteracy Coalition Monthly Check-In
URL:https://escapevelocityfoundation.com/event/sacramento-literacy-coalition-meeting-2/2026-12-02/
LOCATION:Zoom
CATEGORIES:literacy,Meeting
ORGANIZER;CN="Escape Velocity Resources Foundation Inc":MAILTO:escapevelocityfoundationinc@gmail.com
END:VEVENT
BEGIN:VEVENT
DTSTART;TZID=America/Los_Angeles:20270106T100000
DTEND;TZID=America/Los_Angeles:20270106T110000
DTSTAMP:20260424T085528
CREATED:20231115T013816Z
LAST-MODIFIED:20231115T014053Z
UID:10000856-1799229600-1799233200@escapevelocityfoundation.com
SUMMARY:Sacramento Literacy Coalition Meeting
DESCRIPTION:Monthly literacy coalition meeting \nLiteracy Coalition Monthly Check-In
URL:https://escapevelocityfoundation.com/event/sacramento-literacy-coalition-meeting-2/2027-01-06/
LOCATION:Zoom
CATEGORIES:literacy,Meeting
ORGANIZER;CN="Escape Velocity Resources Foundation Inc":MAILTO:escapevelocityfoundationinc@gmail.com
END:VEVENT
BEGIN:VEVENT
DTSTART;TZID=America/Los_Angeles:20270203T100000
DTEND;TZID=America/Los_Angeles:20270203T110000
DTSTAMP:20260424T085528
CREATED:20231115T013816Z
LAST-MODIFIED:20231115T014053Z
UID:10000857-1801648800-1801652400@escapevelocityfoundation.com
SUMMARY:Sacramento Literacy Coalition Meeting
DESCRIPTION:Monthly literacy coalition meeting \nLiteracy Coalition Monthly Check-In
URL:https://escapevelocityfoundation.com/event/sacramento-literacy-coalition-meeting-2/2027-02-03/
LOCATION:Zoom
CATEGORIES:literacy,Meeting
ORGANIZER;CN="Escape Velocity Resources Foundation Inc":MAILTO:escapevelocityfoundationinc@gmail.com
END:VEVENT
BEGIN:VEVENT
DTSTART;TZID=America/Los_Angeles:20270303T100000
DTEND;TZID=America/Los_Angeles:20270303T110000
DTSTAMP:20260424T085528
CREATED:20231115T013816Z
LAST-MODIFIED:20231115T014053Z
UID:10000858-1804068000-1804071600@escapevelocityfoundation.com
SUMMARY:Sacramento Literacy Coalition Meeting
DESCRIPTION:Monthly literacy coalition meeting \nLiteracy Coalition Monthly Check-In
URL:https://escapevelocityfoundation.com/event/sacramento-literacy-coalition-meeting-2/2027-03-03/
LOCATION:Zoom
CATEGORIES:literacy,Meeting
ORGANIZER;CN="Escape Velocity Resources Foundation Inc":MAILTO:escapevelocityfoundationinc@gmail.com
END:VEVENT
BEGIN:VEVENT
DTSTART;TZID=America/Los_Angeles:20270407T100000
DTEND;TZID=America/Los_Angeles:20270407T110000
DTSTAMP:20260424T085528
CREATED:20231115T013816Z
LAST-MODIFIED:20231115T014053Z
UID:10000859-1807092000-1807095600@escapevelocityfoundation.com
SUMMARY:Sacramento Literacy Coalition Meeting
DESCRIPTION:Monthly literacy coalition meeting \nLiteracy Coalition Monthly Check-In
URL:https://escapevelocityfoundation.com/event/sacramento-literacy-coalition-meeting-2/2027-04-07/
LOCATION:Zoom
CATEGORIES:literacy,Meeting
ORGANIZER;CN="Escape Velocity Resources Foundation Inc":MAILTO:escapevelocityfoundationinc@gmail.com
END:VEVENT
BEGIN:VEVENT
DTSTART;TZID=America/Los_Angeles:20270505T100000
DTEND;TZID=America/Los_Angeles:20270505T110000
DTSTAMP:20260424T085528
CREATED:20231115T013816Z
LAST-MODIFIED:20231115T014053Z
UID:10000860-1809511200-1809514800@escapevelocityfoundation.com
SUMMARY:Sacramento Literacy Coalition Meeting
DESCRIPTION:Monthly literacy coalition meeting \nLiteracy Coalition Monthly Check-In
URL:https://escapevelocityfoundation.com/event/sacramento-literacy-coalition-meeting-2/2027-05-05/
LOCATION:Zoom
CATEGORIES:literacy,Meeting
ORGANIZER;CN="Escape Velocity Resources Foundation Inc":MAILTO:escapevelocityfoundationinc@gmail.com
END:VEVENT
BEGIN:VEVENT
DTSTART;TZID=America/Los_Angeles:20270602T100000
DTEND;TZID=America/Los_Angeles:20270602T110000
DTSTAMP:20260424T085528
CREATED:20231115T013816Z
LAST-MODIFIED:20231115T014053Z
UID:10000861-1811930400-1811934000@escapevelocityfoundation.com
SUMMARY:Sacramento Literacy Coalition Meeting
DESCRIPTION:Monthly literacy coalition meeting \nLiteracy Coalition Monthly Check-In
URL:https://escapevelocityfoundation.com/event/sacramento-literacy-coalition-meeting-2/2027-06-02/
LOCATION:Zoom
CATEGORIES:literacy,Meeting
ORGANIZER;CN="Escape Velocity Resources Foundation Inc":MAILTO:escapevelocityfoundationinc@gmail.com
END:VEVENT
BEGIN:VEVENT
DTSTART;TZID=America/Los_Angeles:20270707T100000
DTEND;TZID=America/Los_Angeles:20270707T110000
DTSTAMP:20260424T085528
CREATED:20231115T013816Z
LAST-MODIFIED:20231115T014053Z
UID:10000862-1814954400-1814958000@escapevelocityfoundation.com
SUMMARY:Sacramento Literacy Coalition Meeting
DESCRIPTION:Monthly literacy coalition meeting \nLiteracy Coalition Monthly Check-In
URL:https://escapevelocityfoundation.com/event/sacramento-literacy-coalition-meeting-2/2027-07-07/
LOCATION:Zoom
CATEGORIES:literacy,Meeting
ORGANIZER;CN="Escape Velocity Resources Foundation Inc":MAILTO:escapevelocityfoundationinc@gmail.com
END:VEVENT
BEGIN:VEVENT
DTSTART;TZID=America/Los_Angeles:20270804T100000
DTEND;TZID=America/Los_Angeles:20270804T110000
DTSTAMP:20260424T085528
CREATED:20231115T013816Z
LAST-MODIFIED:20231115T014053Z
UID:10000863-1817373600-1817377200@escapevelocityfoundation.com
SUMMARY:Sacramento Literacy Coalition Meeting
DESCRIPTION:Monthly literacy coalition meeting \nLiteracy Coalition Monthly Check-In
URL:https://escapevelocityfoundation.com/event/sacramento-literacy-coalition-meeting-2/2027-08-04/
LOCATION:Zoom
CATEGORIES:literacy,Meeting
ORGANIZER;CN="Escape Velocity Resources Foundation Inc":MAILTO:escapevelocityfoundationinc@gmail.com
END:VEVENT
END:VCALENDAR