BEGIN:VCALENDAR
VERSION:2.0
PRODID:-//Escape Velocity Resources Foundation, Inc - ECPv6.15.20//NONSGML v1.0//EN
CALSCALE:GREGORIAN
METHOD:PUBLISH
X-WR-CALNAME:Escape Velocity Resources Foundation, Inc
X-ORIGINAL-URL:https://escapevelocityfoundation.com
X-WR-CALDESC:Events for Escape Velocity Resources Foundation, Inc
REFRESH-INTERVAL;VALUE=DURATION:PT1H
X-Robots-Tag:noindex
X-PUBLISHED-TTL:PT1H
BEGIN:VTIMEZONE
TZID:America/Los_Angeles
BEGIN:DAYLIGHT
TZOFFSETFROM:-0800
TZOFFSETTO:-0700
TZNAME:PDT
DTSTART:20200308T100000
END:DAYLIGHT
BEGIN:STANDARD
TZOFFSETFROM:-0700
TZOFFSETTO:-0800
TZNAME:PST
DTSTART:20201101T090000
END:STANDARD
BEGIN:DAYLIGHT
TZOFFSETFROM:-0800
TZOFFSETTO:-0700
TZNAME:PDT
DTSTART:20210314T100000
END:DAYLIGHT
BEGIN:STANDARD
TZOFFSETFROM:-0700
TZOFFSETTO:-0800
TZNAME:PST
DTSTART:20211107T090000
END:STANDARD
BEGIN:DAYLIGHT
TZOFFSETFROM:-0800
TZOFFSETTO:-0700
TZNAME:PDT
DTSTART:20220313T100000
END:DAYLIGHT
BEGIN:STANDARD
TZOFFSETFROM:-0700
TZOFFSETTO:-0800
TZNAME:PST
DTSTART:20221106T090000
END:STANDARD
END:VTIMEZONE
BEGIN:VEVENT
DTSTART;TZID=America/Los_Angeles:20210228T150000
DTEND;TZID=America/Los_Angeles:20210228T170000
DTSTAMP:20260423T095124
CREATED:20210219T003813Z
LAST-MODIFIED:20210221T235648Z
UID:10000294-1614524400-1614531600@escapevelocityfoundation.com
SUMMARY:A Discussion on Reparations
DESCRIPTION:This multigenerational community discussion is inspired by AB 3121. Join US as we critically think about what we want and how we can use our literal influence. \nPlease share with anyone you feel should be apart of the conversation. This event is in collaboration with various community members including Sojourner Truth Museum\, Chris Lodgson\, Carrissah Calvin\, Dana Maeshia and More. Please register. \n 
URL:https://escapevelocityfoundation.com/event/a-discussion-on-reparations/
LOCATION:Zoom
CATEGORIES:Community Event
ATTACH;FMTTYPE=image/jpeg:https://escapevelocityfoundation.com/wp-content/uploads/discussiononreparations.jpg
ORGANIZER;CN="Escape Velocity Resources Foundation Inc":MAILTO:escapevelocityfoundationinc@gmail.com
END:VEVENT
END:VCALENDAR