BEGIN:VCALENDAR
VERSION:2.0
PRODID:-//Escape Velocity Resources Foundation, Inc - ECPv6.15.20//NONSGML v1.0//EN
CALSCALE:GREGORIAN
METHOD:PUBLISH
X-ORIGINAL-URL:https://escapevelocityfoundation.com
X-WR-CALDESC:Events for Escape Velocity Resources Foundation, Inc
REFRESH-INTERVAL;VALUE=DURATION:PT1H
X-Robots-Tag:noindex
X-PUBLISHED-TTL:PT1H
BEGIN:VTIMEZONE
TZID:America/Los_Angeles
BEGIN:DAYLIGHT
TZOFFSETFROM:-0800
TZOFFSETTO:-0700
TZNAME:PDT
DTSTART:20200308T100000
END:DAYLIGHT
BEGIN:STANDARD
TZOFFSETFROM:-0700
TZOFFSETTO:-0800
TZNAME:PST
DTSTART:20201101T090000
END:STANDARD
BEGIN:DAYLIGHT
TZOFFSETFROM:-0800
TZOFFSETTO:-0700
TZNAME:PDT
DTSTART:20210314T100000
END:DAYLIGHT
BEGIN:STANDARD
TZOFFSETFROM:-0700
TZOFFSETTO:-0800
TZNAME:PST
DTSTART:20211107T090000
END:STANDARD
BEGIN:DAYLIGHT
TZOFFSETFROM:-0800
TZOFFSETTO:-0700
TZNAME:PDT
DTSTART:20220313T100000
END:DAYLIGHT
BEGIN:STANDARD
TZOFFSETFROM:-0700
TZOFFSETTO:-0800
TZNAME:PST
DTSTART:20221106T090000
END:STANDARD
BEGIN:DAYLIGHT
TZOFFSETFROM:-0800
TZOFFSETTO:-0700
TZNAME:PDT
DTSTART:20230312T100000
END:DAYLIGHT
BEGIN:STANDARD
TZOFFSETFROM:-0700
TZOFFSETTO:-0800
TZNAME:PST
DTSTART:20231105T090000
END:STANDARD
BEGIN:DAYLIGHT
TZOFFSETFROM:-0800
TZOFFSETTO:-0700
TZNAME:PDT
DTSTART:20240310T100000
END:DAYLIGHT
BEGIN:STANDARD
TZOFFSETFROM:-0700
TZOFFSETTO:-0800
TZNAME:PST
DTSTART:20241103T090000
END:STANDARD
END:VTIMEZONE
BEGIN:VEVENT
DTSTART;TZID=America/Los_Angeles:20210505T180000
DTEND;TZID=America/Los_Angeles:20210505T200000
DTSTAMP:20260423T174655
CREATED:20210429T144918Z
LAST-MODIFIED:20210429T144918Z
UID:10000329-1620237600-1620244800@escapevelocityfoundation.com
SUMMARY:Around the Way Girls Paint N Sip for Literacy
DESCRIPTION:Around the Way Girls Book Club participants will be having a Paint & Sip\, Wednesday\, May 5th from 6pm-8pm at Florin Square 2251 Florin Rd\, Sacramento\, CA 95822. \nThis will be a guided paint session by Anissa’s Art Corner. The event will be catered by Pryde N Joi and Freckled Sweets & Treats. \nPlease RSVP to 916-710-2127. \nIf you’d like to donate to the cause\, please PayPal or CashApp $literacyadvocate. We thank you in advance.
URL:https://escapevelocityfoundation.com/event/around-the-way-girls-paint-n-sip-for-literacy/
LOCATION:Florin Square\, 2251 Florin Road\, Sacramento\, CA\, 95822\, United States
CATEGORIES:Around the Way Girls
ATTACH;FMTTYPE=image/jpeg:https://escapevelocityfoundation.com/wp-content/uploads/ATWG-paint-may-5th.jpg
ORGANIZER;CN="Escape Velocity Resources Foundation Inc":MAILTO:escapevelocityfoundationinc@gmail.com
END:VEVENT
BEGIN:VEVENT
DTSTART;TZID=America/Los_Angeles:20211001T080000
DTEND;TZID=America/Los_Angeles:20211010T233000
DTSTAMP:20260423T174655
CREATED:20211002T162519Z
LAST-MODIFIED:20211002T162519Z
UID:10000355-1633075200-1633908600@escapevelocityfoundation.com
SUMMARY:Youth Book Club Recruitment
DESCRIPTION:More information on Book Club enrollment
URL:https://escapevelocityfoundation.com/event/youth-book-club-recruitment/
CATEGORIES:Around the Way Girls,Boys in the Hood
ATTACH;FMTTYPE=image/png:https://escapevelocityfoundation.com/wp-content/uploads/Fall-2021-Youth-Book-Club-Recruitment-Website-300-x-300-px.png
ORGANIZER;CN="Escape Velocity Resources Foundation Inc":MAILTO:escapevelocityfoundationinc@gmail.com
END:VEVENT
BEGIN:VEVENT
DTSTART;TZID=America/Los_Angeles:20220413T183000
DTEND;TZID=America/Los_Angeles:20220413T200000
DTSTAMP:20260423T174655
CREATED:20220329T222034Z
LAST-MODIFIED:20220329T222034Z
UID:10000334-1649874600-1649880000@escapevelocityfoundation.com
SUMMARY:Around the Way Girls: Financial Literacy Pop-Up 4/13
DESCRIPTION:The girls will have a Financial Literacy Session Pop-Up with Christi Ketchum. \nWednesday 4/13/22 at 6:30pm via Zoom \nThey will learn: \n\nBudgeting\nRule of 72\nBlack Wall Street\nEconomic Justice and Wealth\n\nChristi Ketchum’s Bio: \n\n\nThrough 25+ years of working in the non-profit sector\, Christi has facilitated and identified gaps to create programs that provide strategic direction\, political education\, leadership development\, opportunities and resources to enrich leaders that can advocate for themselves and others. \nIn 1998\, Christi imagined creating a safe space for Black Women & Girls especially to come together\, become stronger leaders\, creating sisterhood through the experience of sharing stories\, and building meaningful relationships. That vision began resurfacing in 2009\, when she founded Our Rightful Place. She was inspired to create a network for Black Women to come together for positive and critical dialogues\, collaboration\, and action. From there the Sacramento Sister Circle (SSC) was established: and continues to grow: both in member numbers\, and impact. In 2O21\, SSC celebrating their 10 year Anniversary\, reaching an active online membership of 9\,000+ Black Women\, and continues to encompass holistic health\, wealth building\, expanding horizons\, acquisition of knowledge\, mentorship and political engagement. \nThrough this work Christi has established herself as an accomplished and recognized changemaker expanding as a Consultant and Business Owner\, that continues to support ongoing local efforts that inspire and uplifts the Brilliance of Black Women Leadership\, a Legacy of making a positive difference in the lives of their families\, communities\, and the world. \nContact sacsistercircle@gmail.com
URL:https://escapevelocityfoundation.com/event/around-the-way-girls-financial-literacy-pop-up-4-13/
LOCATION:Zoom
CATEGORIES:Around the Way Girls,Book Club Meeting,Youth Event
ATTACH;FMTTYPE=image/png:https://escapevelocityfoundation.com/wp-content/uploads/Financial-Literacy-April-CK.png
ORGANIZER;CN="Escape Velocity Resources Foundation Inc":MAILTO:escapevelocityfoundationinc@gmail.com
END:VEVENT
BEGIN:VEVENT
DTSTART;TZID=America/Los_Angeles:20230405T183000
DTEND;TZID=America/Los_Angeles:20230405T200000
DTSTAMP:20260423T174655
CREATED:20230401T184446Z
LAST-MODIFIED:20230401T184446Z
UID:10000585-1680719400-1680724800@escapevelocityfoundation.com
SUMMARY:Around the Way Girls Book Club (April)
DESCRIPTION:Weekly Book Club Meeting on Zoom
URL:https://escapevelocityfoundation.com/event/around-the-way-girls-book-club-april/2023-04-05/
LOCATION:Zoom
CATEGORIES:Around the Way Girls,Book Club Meeting
ORGANIZER;CN="Escape Velocity Resources Foundation Inc":MAILTO:escapevelocityfoundationinc@gmail.com
END:VEVENT
BEGIN:VEVENT
DTSTART;TZID=America/Los_Angeles:20230412T183000
DTEND;TZID=America/Los_Angeles:20230412T200000
DTSTAMP:20260423T174655
CREATED:20230401T184446Z
LAST-MODIFIED:20230401T184446Z
UID:10000586-1681324200-1681329600@escapevelocityfoundation.com
SUMMARY:Around the Way Girls Book Club (April)
DESCRIPTION:Weekly Book Club Meeting on Zoom
URL:https://escapevelocityfoundation.com/event/around-the-way-girls-book-club-april/2023-04-12/
LOCATION:Zoom
CATEGORIES:Around the Way Girls,Book Club Meeting
ORGANIZER;CN="Escape Velocity Resources Foundation Inc":MAILTO:escapevelocityfoundationinc@gmail.com
END:VEVENT
BEGIN:VEVENT
DTSTART;TZID=America/Los_Angeles:20230419T183000
DTEND;TZID=America/Los_Angeles:20230419T200000
DTSTAMP:20260423T174655
CREATED:20230401T184446Z
LAST-MODIFIED:20230401T184446Z
UID:10000587-1681929000-1681934400@escapevelocityfoundation.com
SUMMARY:Around the Way Girls Book Club (April)
DESCRIPTION:Weekly Book Club Meeting on Zoom
URL:https://escapevelocityfoundation.com/event/around-the-way-girls-book-club-april/2023-04-19/
LOCATION:Zoom
CATEGORIES:Around the Way Girls,Book Club Meeting
ORGANIZER;CN="Escape Velocity Resources Foundation Inc":MAILTO:escapevelocityfoundationinc@gmail.com
END:VEVENT
BEGIN:VEVENT
DTSTART;TZID=America/Los_Angeles:20230426T183000
DTEND;TZID=America/Los_Angeles:20230426T200000
DTSTAMP:20260423T174655
CREATED:20230401T184446Z
LAST-MODIFIED:20230401T184446Z
UID:10000588-1682533800-1682539200@escapevelocityfoundation.com
SUMMARY:Around the Way Girls Book Club (April)
DESCRIPTION:Weekly Book Club Meeting on Zoom
URL:https://escapevelocityfoundation.com/event/around-the-way-girls-book-club-april/2023-04-26/
LOCATION:Zoom
CATEGORIES:Around the Way Girls,Book Club Meeting
ORGANIZER;CN="Escape Velocity Resources Foundation Inc":MAILTO:escapevelocityfoundationinc@gmail.com
END:VEVENT
BEGIN:VEVENT
DTSTART;TZID=America/Los_Angeles:20230902T113000
DTEND;TZID=America/Los_Angeles:20230902T133000
DTSTAMP:20260423T174655
CREATED:20230906T232622Z
LAST-MODIFIED:20230906T232622Z
UID:10000816-1693654200-1693661400@escapevelocityfoundation.com
SUMMARY:4th Annual Books in the Park
DESCRIPTION:
URL:https://escapevelocityfoundation.com/event/4th-annual-books-in-the-park/
LOCATION:Shasta Park
CATEGORIES:Around the Way Girls,Boys in the Hood,Community Event,Youth Event
ORGANIZER;CN="Escape Velocity Resources Foundation Inc":MAILTO:escapevelocityfoundationinc@gmail.com
END:VEVENT
END:VCALENDAR