BEGIN:VCALENDAR
VERSION:2.0
PRODID:-//Escape Velocity Resources Foundation, Inc - ECPv6.15.20//NONSGML v1.0//EN
CALSCALE:GREGORIAN
METHOD:PUBLISH
X-WR-CALNAME:Escape Velocity Resources Foundation, Inc
X-ORIGINAL-URL:https://escapevelocityfoundation.com
X-WR-CALDESC:Events for Escape Velocity Resources Foundation, Inc
REFRESH-INTERVAL;VALUE=DURATION:PT1H
X-Robots-Tag:noindex
X-PUBLISHED-TTL:PT1H
BEGIN:VTIMEZONE
TZID:America/Los_Angeles
BEGIN:DAYLIGHT
TZOFFSETFROM:-0800
TZOFFSETTO:-0700
TZNAME:PDT
DTSTART:20190310T100000
END:DAYLIGHT
BEGIN:STANDARD
TZOFFSETFROM:-0700
TZOFFSETTO:-0800
TZNAME:PST
DTSTART:20191103T090000
END:STANDARD
BEGIN:DAYLIGHT
TZOFFSETFROM:-0800
TZOFFSETTO:-0700
TZNAME:PDT
DTSTART:20200308T100000
END:DAYLIGHT
BEGIN:STANDARD
TZOFFSETFROM:-0700
TZOFFSETTO:-0800
TZNAME:PST
DTSTART:20201101T090000
END:STANDARD
BEGIN:DAYLIGHT
TZOFFSETFROM:-0800
TZOFFSETTO:-0700
TZNAME:PDT
DTSTART:20210314T100000
END:DAYLIGHT
BEGIN:STANDARD
TZOFFSETFROM:-0700
TZOFFSETTO:-0800
TZNAME:PST
DTSTART:20211107T090000
END:STANDARD
BEGIN:DAYLIGHT
TZOFFSETFROM:-0800
TZOFFSETTO:-0700
TZNAME:PDT
DTSTART:20220313T100000
END:DAYLIGHT
BEGIN:STANDARD
TZOFFSETFROM:-0700
TZOFFSETTO:-0800
TZNAME:PST
DTSTART:20221106T090000
END:STANDARD
BEGIN:DAYLIGHT
TZOFFSETFROM:-0800
TZOFFSETTO:-0700
TZNAME:PDT
DTSTART:20230312T100000
END:DAYLIGHT
BEGIN:STANDARD
TZOFFSETFROM:-0700
TZOFFSETTO:-0800
TZNAME:PST
DTSTART:20231105T090000
END:STANDARD
BEGIN:DAYLIGHT
TZOFFSETFROM:-0800
TZOFFSETTO:-0700
TZNAME:PDT
DTSTART:20240310T100000
END:DAYLIGHT
BEGIN:STANDARD
TZOFFSETFROM:-0700
TZOFFSETTO:-0800
TZNAME:PST
DTSTART:20241103T090000
END:STANDARD
BEGIN:DAYLIGHT
TZOFFSETFROM:-0800
TZOFFSETTO:-0700
TZNAME:PDT
DTSTART:20250309T100000
END:DAYLIGHT
BEGIN:STANDARD
TZOFFSETFROM:-0700
TZOFFSETTO:-0800
TZNAME:PST
DTSTART:20251102T090000
END:STANDARD
END:VTIMEZONE
BEGIN:VEVENT
DTSTART;TZID=America/Los_Angeles:20200912T120000
DTEND;TZID=America/Los_Angeles:20200912T190000
DTSTAMP:20260423T070033
CREATED:20200824T232815Z
LAST-MODIFIED:20200824T232815Z
UID:10000253-1599912000-1599937200@escapevelocityfoundation.com
SUMMARY:2nd Annual Black Food Fest
DESCRIPTION:The 2nd Annual Black Food Fest will be outside with seating that allows plenty space for social distancing. Vendors will be wearing mask. 😷 \nJoin us for food\, vendors\, entertainment\, and family fun! \nOur local businesses need our support during this pandemic. \nShare with your family and friends. \n❤️🖤💚 #blackfoodfest
URL:https://escapevelocityfoundation.com/event/2nd-annual-black-food-fest/
LOCATION:Florin Square\, 2251 Florin Road\, Sacramento\, CA\, 95822\, United States
CATEGORIES:Business,Community Event
ATTACH;FMTTYPE=image/jpeg:https://escapevelocityfoundation.com/wp-content/uploads/CD04B120-F907-4057-9774-AB89A9AF7250.jpeg
ORGANIZER;CN="Escape Velocity Resources Foundation Inc":MAILTO:escapevelocityfoundationinc@gmail.com
END:VEVENT
BEGIN:VEVENT
DTSTART;TZID=America/Los_Angeles:20240608T130000
DTEND;TZID=America/Los_Angeles:20240608T140000
DTSTAMP:20260423T070033
CREATED:20240523T055358Z
LAST-MODIFIED:20240606T191020Z
UID:10001041-1717851600-1717855200@escapevelocityfoundation.com
SUMMARY:Mother Daughter Table Talk - Self Care Saturday
DESCRIPTION:
URL:https://escapevelocityfoundation.com/event/mother-daughter-table-talk-selfcare/
LOCATION:Sojourner Truth Multicultural Art Museum\, 2251 Florin Rd\, #126\, Sacramento\, CA\, 95822\, United States
CATEGORIES:Community Event
ORGANIZER;CN="Escape Velocity Resources Foundation Inc":MAILTO:escapevelocityfoundationinc@gmail.com
END:VEVENT
END:VCALENDAR