BEGIN:VCALENDAR
VERSION:2.0
PRODID:-//Escape Velocity Resources Foundation, Inc - ECPv6.15.20//NONSGML v1.0//EN
CALSCALE:GREGORIAN
METHOD:PUBLISH
X-WR-CALNAME:Escape Velocity Resources Foundation, Inc
X-ORIGINAL-URL:https://escapevelocityfoundation.com
X-WR-CALDESC:Events for Escape Velocity Resources Foundation, Inc
REFRESH-INTERVAL;VALUE=DURATION:PT1H
X-Robots-Tag:noindex
X-PUBLISHED-TTL:PT1H
BEGIN:VTIMEZONE
TZID:America/Los_Angeles
BEGIN:DAYLIGHT
TZOFFSETFROM:-0800
TZOFFSETTO:-0700
TZNAME:PDT
DTSTART:20210314T100000
END:DAYLIGHT
BEGIN:STANDARD
TZOFFSETFROM:-0700
TZOFFSETTO:-0800
TZNAME:PST
DTSTART:20211107T090000
END:STANDARD
BEGIN:DAYLIGHT
TZOFFSETFROM:-0800
TZOFFSETTO:-0700
TZNAME:PDT
DTSTART:20220313T100000
END:DAYLIGHT
BEGIN:STANDARD
TZOFFSETFROM:-0700
TZOFFSETTO:-0800
TZNAME:PST
DTSTART:20221106T090000
END:STANDARD
BEGIN:DAYLIGHT
TZOFFSETFROM:-0800
TZOFFSETTO:-0700
TZNAME:PDT
DTSTART:20230312T100000
END:DAYLIGHT
BEGIN:STANDARD
TZOFFSETFROM:-0700
TZOFFSETTO:-0800
TZNAME:PST
DTSTART:20231105T090000
END:STANDARD
END:VTIMEZONE
BEGIN:VEVENT
DTSTART;VALUE=DATE:20220505
DTEND;VALUE=DATE:20220506
DTSTAMP:20260423T141237
CREATED:20220501T034959Z
LAST-MODIFIED:20220501T035516Z
UID:10000379-1651708800-1651795199@escapevelocityfoundation.com
SUMMARY:Big Day of Giving 2022
DESCRIPTION:Escape Velocity will be participating in Big Day of Giving! Your donations help us provide youth opportunities to come together in book clubs\, literacy activities\, guest speakers\, free books\, youth development and work readiness\, mental health awareness projects and more. \nWill you join us to pour into our youth and help further literacy in Greater Sacramento? \nHTTPS://Escapevelocityfoundation.com/give-donate
URL:https://escapevelocityfoundation.com/event/big-day-of-giving-2022/
CATEGORIES:Fundraiser
ATTACH;FMTTYPE=image/png:https://escapevelocityfoundation.com/wp-content/uploads/BDOG-EV-2022.png
ORGANIZER;CN="Escape Velocity Resources Foundation Inc":MAILTO:escapevelocityfoundationinc@gmail.com
END:VEVENT
END:VCALENDAR