BEGIN:VCALENDAR
VERSION:2.0
PRODID:-//Escape Velocity Resources Foundation, Inc - ECPv6.15.20//NONSGML v1.0//EN
CALSCALE:GREGORIAN
METHOD:PUBLISH
X-WR-CALNAME:Escape Velocity Resources Foundation, Inc
X-ORIGINAL-URL:https://escapevelocityfoundation.com
X-WR-CALDESC:Events for Escape Velocity Resources Foundation, Inc
REFRESH-INTERVAL;VALUE=DURATION:PT1H
X-Robots-Tag:noindex
X-PUBLISHED-TTL:PT1H
BEGIN:VTIMEZONE
TZID:America/Los_Angeles
BEGIN:DAYLIGHT
TZOFFSETFROM:-0800
TZOFFSETTO:-0700
TZNAME:PDT
DTSTART:20200308T100000
END:DAYLIGHT
BEGIN:STANDARD
TZOFFSETFROM:-0700
TZOFFSETTO:-0800
TZNAME:PST
DTSTART:20201101T090000
END:STANDARD
BEGIN:DAYLIGHT
TZOFFSETFROM:-0800
TZOFFSETTO:-0700
TZNAME:PDT
DTSTART:20210314T100000
END:DAYLIGHT
BEGIN:STANDARD
TZOFFSETFROM:-0700
TZOFFSETTO:-0800
TZNAME:PST
DTSTART:20211107T090000
END:STANDARD
BEGIN:DAYLIGHT
TZOFFSETFROM:-0800
TZOFFSETTO:-0700
TZNAME:PDT
DTSTART:20220313T100000
END:DAYLIGHT
BEGIN:STANDARD
TZOFFSETFROM:-0700
TZOFFSETTO:-0800
TZNAME:PST
DTSTART:20221106T090000
END:STANDARD
END:VTIMEZONE
BEGIN:VEVENT
DTSTART;TZID=America/Los_Angeles:20210911T120000
DTEND;TZID=America/Los_Angeles:20210911T180000
DTSTAMP:20260424T024650
CREATED:20210907T025655Z
LAST-MODIFIED:20210907T025900Z
UID:10000352-1631361600-1631383200@escapevelocityfoundation.com
SUMMARY:3rd Annual Black Food Festival
DESCRIPTION:💛💛💛 3rd Annual Black Food Fest: Black and Seasoned 💛💛💛 \nSaturday\, 9/11/2021 from 12-6pm at Florin Square 2251 Florin Rd\, Sacramento\, CA 95822. \nThis year the life of Dana Maeshia will be #honored and #celebrated. Dove’s 🕊 🕊🕊🕊🕊 will be released in her remembrance at 3pm. Wear a piece of yellow if you can. \nBlack Food Festival is a family food\, music and vendor event for all ethnicities held in Sacramento annually. Currently in it’s 3rd year\, it has been a must go to event that gets better and better. Come out and support all the vendors\, musicians and enjoy some delicious food and shopping. Food…Culture…and…Tradition. \nhttps://escapevelocityfoundation.com/wp-content/uploads/3rdAnnaulBlackFoodFest.mp4
URL:https://escapevelocityfoundation.com/event/3rd-annual-black-food-festival/
LOCATION:Florin Square\, 2251 Florin Road\, Sacramento\, CA\, 95822\, United States
CATEGORIES:Business,Community Event
ATTACH;FMTTYPE=image/jpeg:https://escapevelocityfoundation.com/wp-content/uploads/3rdAnnualBlackFoodFestx500.jpg
END:VEVENT
END:VCALENDAR