BEGIN:VCALENDAR
VERSION:2.0
PRODID:-//Escape Velocity Resources Foundation, Inc - ECPv6.15.20//NONSGML v1.0//EN
CALSCALE:GREGORIAN
METHOD:PUBLISH
X-WR-CALNAME:Escape Velocity Resources Foundation, Inc
X-ORIGINAL-URL:https://escapevelocityfoundation.com
X-WR-CALDESC:Events for Escape Velocity Resources Foundation, Inc
REFRESH-INTERVAL;VALUE=DURATION:PT1H
X-Robots-Tag:noindex
X-PUBLISHED-TTL:PT1H
BEGIN:VTIMEZONE
TZID:America/Los_Angeles
BEGIN:DAYLIGHT
TZOFFSETFROM:-0800
TZOFFSETTO:-0700
TZNAME:PDT
DTSTART:20200308T100000
END:DAYLIGHT
BEGIN:STANDARD
TZOFFSETFROM:-0700
TZOFFSETTO:-0800
TZNAME:PST
DTSTART:20201101T090000
END:STANDARD
BEGIN:DAYLIGHT
TZOFFSETFROM:-0800
TZOFFSETTO:-0700
TZNAME:PDT
DTSTART:20210314T100000
END:DAYLIGHT
BEGIN:STANDARD
TZOFFSETFROM:-0700
TZOFFSETTO:-0800
TZNAME:PST
DTSTART:20211107T090000
END:STANDARD
BEGIN:DAYLIGHT
TZOFFSETFROM:-0800
TZOFFSETTO:-0700
TZNAME:PDT
DTSTART:20220313T100000
END:DAYLIGHT
BEGIN:STANDARD
TZOFFSETFROM:-0700
TZOFFSETTO:-0800
TZNAME:PST
DTSTART:20221106T090000
END:STANDARD
BEGIN:DAYLIGHT
TZOFFSETFROM:-0800
TZOFFSETTO:-0700
TZNAME:PDT
DTSTART:20230312T100000
END:DAYLIGHT
BEGIN:STANDARD
TZOFFSETFROM:-0700
TZOFFSETTO:-0800
TZNAME:PST
DTSTART:20231105T090000
END:STANDARD
BEGIN:DAYLIGHT
TZOFFSETFROM:-0800
TZOFFSETTO:-0700
TZNAME:PDT
DTSTART:20240310T100000
END:DAYLIGHT
BEGIN:STANDARD
TZOFFSETFROM:-0700
TZOFFSETTO:-0800
TZNAME:PST
DTSTART:20241103T090000
END:STANDARD
BEGIN:DAYLIGHT
TZOFFSETFROM:-0800
TZOFFSETTO:-0700
TZNAME:PDT
DTSTART:20250309T100000
END:DAYLIGHT
BEGIN:STANDARD
TZOFFSETFROM:-0700
TZOFFSETTO:-0800
TZNAME:PST
DTSTART:20251102T090000
END:STANDARD
END:VTIMEZONE
BEGIN:VEVENT
DTSTART;TZID=America/Los_Angeles:20210529T120000
DTEND;TZID=America/Los_Angeles:20210529T180000
DTSTAMP:20260423T205030
CREATED:20210529T013344Z
LAST-MODIFIED:20210529T013344Z
UID:10000123-1622289600-1622311200@escapevelocityfoundation.com
SUMMARY:Support Literacy - BBQ Wars
DESCRIPTION:Support Literacy by attending the 3rd Annual BBQ Wars North vs South in Sacramento\, CA. \nA percentage of the proceeds will go towards Escape Velocity Resources Literacy Programs: Boys in the Hood and Around the Way Girls Book Clubs. The youth will be at the Welcome booth with information on our programs. This is one of the fundraisers for the year. \nOur literacy programs are for Black Boys and Girls ages 7 to 13 years old. Our goal is to increase reading proficiency\, to disrupt the school to prison pipeline and to invoke a love of reading. It’s a beautiful thing when folks use their platform and sphere of influence to support the programs in their communities. \nEntry is free but there will be food and vendors selling their products. \nThe goal for this event is to bridge the gap between the community\, business\, and resources. While enjoying entertainment\, food and fun!\n\nSocial Distancing and Mask Required. There will be plenty of sanitized seating.\n\nEvent Flyer:
URL:https://escapevelocityfoundation.com/event/support-literacy-bbq-wars/
LOCATION:Florin Square\, 2251 Florin Road\, Sacramento\, CA\, 95822\, United States
CATEGORIES:Around the Way Girls,Boys in the Hood,Community Event,Fundraiser
ATTACH;FMTTYPE=image/png:https://escapevelocityfoundation.com/wp-content/uploads/BBQ-Wars-Support-Literacy-x300.png
ORGANIZER;CN="Escape Velocity Resources Foundation Inc":MAILTO:escapevelocityfoundationinc@gmail.com
END:VEVENT
BEGIN:VEVENT
DTSTART;TZID=America/Los_Angeles:20220409T120000
DTEND;TZID=America/Los_Angeles:20220409T160000
DTSTAMP:20260423T205030
CREATED:20220329T214403Z
LAST-MODIFIED:20220329T214403Z
UID:10000391-1649505600-1649520000@escapevelocityfoundation.com
SUMMARY:Health is Wealth Community Fair
DESCRIPTION:Escape Velocity is a member of Live Well South Sacramento and we are excited to be a vendor at this community fair with FREE activities\, food\, services\, games and more! Escape Velocity will be providing free books\, journals\, and more. Share with family and friends of South Sacramento. \nApril 9\, 2022\n12-4pm\n10am-4pm (Vaccines 5 yrs and older – Scan the QR code to register)\nMack Rd Valley Hi Community Center\n7833 Center Pkwy\, Sac\, CA 95823
URL:https://escapevelocityfoundation.com/event/health-is-wealth-community-fair/
LOCATION:Mack Rd Valley Hi Community Center\, 7833 Center Parkway\, Sacramento\, CA\, 95823\, United States
CATEGORIES:Community Event,Youth Event
ATTACH;FMTTYPE=image/png:https://escapevelocityfoundation.com/wp-content/uploads/Health-is-Wealth-event-flyer-2022.png
ORGANIZER;CN="Escape Velocity Resources Foundation Inc":MAILTO:escapevelocityfoundationinc@gmail.com
END:VEVENT
BEGIN:VEVENT
DTSTART;TZID=America/Los_Angeles:20230902T113000
DTEND;TZID=America/Los_Angeles:20230902T133000
DTSTAMP:20260423T205030
CREATED:20230906T232622Z
LAST-MODIFIED:20230906T232622Z
UID:10000816-1693654200-1693661400@escapevelocityfoundation.com
SUMMARY:4th Annual Books in the Park
DESCRIPTION:
URL:https://escapevelocityfoundation.com/event/4th-annual-books-in-the-park/
LOCATION:Shasta Park
CATEGORIES:Around the Way Girls,Boys in the Hood,Community Event,Youth Event
ORGANIZER;CN="Escape Velocity Resources Foundation Inc":MAILTO:escapevelocityfoundationinc@gmail.com
END:VEVENT
BEGIN:VEVENT
DTSTART;TZID=America/Los_Angeles:20240524T173000
DTEND;TZID=America/Los_Angeles:20240524T180000
DTSTAMP:20260423T205030
CREATED:20240523T052230Z
LAST-MODIFIED:20240613T211750Z
UID:10001036-1716571800-1716573600@escapevelocityfoundation.com
SUMMARY:5th Annual Books in the Park
DESCRIPTION:Welcome to the 5th Annual Books in the Park event! Join us for a fun-filled day of literary delights at North Laguna Creek Park. \nPerformance by Melanin Day School Academy \nArt activity by Anissa’s Art Corner \nReading Circle with local author Talina Hutton \nFree BBQ for the first 100 attendees \nImmerse yourself in a day filled of family fun and education. Browse through resource vendors offering valuable information on safe sleep for baby\, parenting classes\, violence prevention and discover free diverse books to enrich your reading journey. \nDon’t miss out on this exciting opportunity to celebrate the joy of reading in the great outdoors. We can’t wait to see you there! \nThis Work is funded in part by South Sacramento Christian Center. The views expressed in this Work\, do not necessarily reflect the official policies of South Sacramento Christian Center or imply endorsement by South Sacramento Christian Center.
URL:https://escapevelocityfoundation.com/event/5th-annual-books-in-the-park/
LOCATION:North Laguna Creek Park\, 6400 Jacinto Ave\, Sacramento\, CA\, 95823\, United States
CATEGORIES:Community Event
ORGANIZER;CN="Escape Velocity Resources Foundation Inc":MAILTO:escapevelocityfoundationinc@gmail.com
END:VEVENT
END:VCALENDAR