BEGIN:VCALENDAR
VERSION:2.0
PRODID:-//Escape Velocity Resources Foundation, Inc - ECPv6.15.20//NONSGML v1.0//EN
CALSCALE:GREGORIAN
METHOD:PUBLISH
X-WR-CALNAME:Escape Velocity Resources Foundation, Inc
X-ORIGINAL-URL:https://escapevelocityfoundation.com
X-WR-CALDESC:Events for Escape Velocity Resources Foundation, Inc
REFRESH-INTERVAL;VALUE=DURATION:PT1H
X-Robots-Tag:noindex
X-PUBLISHED-TTL:PT1H
BEGIN:VTIMEZONE
TZID:America/Los_Angeles
BEGIN:DAYLIGHT
TZOFFSETFROM:-0800
TZOFFSETTO:-0700
TZNAME:PDT
DTSTART:20200308T100000
END:DAYLIGHT
BEGIN:STANDARD
TZOFFSETFROM:-0700
TZOFFSETTO:-0800
TZNAME:PST
DTSTART:20201101T090000
END:STANDARD
BEGIN:DAYLIGHT
TZOFFSETFROM:-0800
TZOFFSETTO:-0700
TZNAME:PDT
DTSTART:20210314T100000
END:DAYLIGHT
BEGIN:STANDARD
TZOFFSETFROM:-0700
TZOFFSETTO:-0800
TZNAME:PST
DTSTART:20211107T090000
END:STANDARD
BEGIN:DAYLIGHT
TZOFFSETFROM:-0800
TZOFFSETTO:-0700
TZNAME:PDT
DTSTART:20220313T100000
END:DAYLIGHT
BEGIN:STANDARD
TZOFFSETFROM:-0700
TZOFFSETTO:-0800
TZNAME:PST
DTSTART:20221106T090000
END:STANDARD
BEGIN:DAYLIGHT
TZOFFSETFROM:-0800
TZOFFSETTO:-0700
TZNAME:PDT
DTSTART:20230312T100000
END:DAYLIGHT
BEGIN:STANDARD
TZOFFSETFROM:-0700
TZOFFSETTO:-0800
TZNAME:PST
DTSTART:20231105T090000
END:STANDARD
BEGIN:DAYLIGHT
TZOFFSETFROM:-0800
TZOFFSETTO:-0700
TZNAME:PDT
DTSTART:20240310T100000
END:DAYLIGHT
BEGIN:STANDARD
TZOFFSETFROM:-0700
TZOFFSETTO:-0800
TZNAME:PST
DTSTART:20241103T090000
END:STANDARD
END:VTIMEZONE
BEGIN:VEVENT
DTSTART;TZID=America/Los_Angeles:20211119T183000
DTEND;TZID=America/Los_Angeles:20211119T200000
DTSTAMP:20260423T062618
CREATED:20211108T212041Z
LAST-MODIFIED:20211116T084636Z
UID:10000369-1637346600-1637352000@escapevelocityfoundation.com
SUMMARY:Mind\, Body & Literacy Virtual Youth Pop-Up
DESCRIPTION:
URL:https://escapevelocityfoundation.com/event/mind-body-literacy-virtual-youth-pop-up/
LOCATION:Zoom
CATEGORIES:Around the Way Girls,Book Club Meeting,Boys in the Hood,Youth Event
ORGANIZER;CN="Escape Velocity Resources Foundation Inc":MAILTO:escapevelocityfoundationinc@gmail.com
END:VEVENT
BEGIN:VEVENT
DTSTART;TZID=America/Los_Angeles:20211203T183000
DTEND;TZID=America/Los_Angeles:20211203T200000
DTSTAMP:20260423T062618
CREATED:20211108T212258Z
LAST-MODIFIED:20211116T084747Z
UID:10000371-1638556200-1638561600@escapevelocityfoundation.com
SUMMARY:Mind\, Body & Literacy Virtual Youth Pop-Up
DESCRIPTION:
URL:https://escapevelocityfoundation.com/event/mind-body-literacy-virtual-youth-pop-up-2/
LOCATION:Zoom
CATEGORIES:Around the Way Girls,Boys in the Hood,Youth Event
ORGANIZER;CN="Escape Velocity Resources Foundation Inc":MAILTO:escapevelocityfoundationinc@gmail.com
END:VEVENT
BEGIN:VEVENT
DTSTART;TZID=America/Los_Angeles:20211210T183000
DTEND;TZID=America/Los_Angeles:20211210T200000
DTSTAMP:20260423T062618
CREATED:20211108T212548Z
LAST-MODIFIED:20211116T084525Z
UID:10000380-1639161000-1639166400@escapevelocityfoundation.com
SUMMARY:Youth Self-Care Skate Night
DESCRIPTION:Part of Mind\, Body & Literacy events. The book club participants are having a Self-Care Skate night.
URL:https://escapevelocityfoundation.com/event/mind-body-literacy-virtual-youth-pop-up-3/
CATEGORIES:Around the Way Girls,Boys in the Hood,Youth Event
ORGANIZER;CN="Escape Velocity Resources Foundation Inc":MAILTO:escapevelocityfoundationinc@gmail.com
END:VEVENT
BEGIN:VEVENT
DTSTART;TZID=America/Los_Angeles:20221008T120000
DTEND;TZID=America/Los_Angeles:20221008T160000
DTSTAMP:20260423T062618
CREATED:20221005T233531Z
LAST-MODIFIED:20221005T233531Z
UID:10000448-1665230400-1665244800@escapevelocityfoundation.com
SUMMARY:HBFC Community Convening
DESCRIPTION:
URL:https://escapevelocityfoundation.com/event/hbfc-community-convening/
LOCATION:Florin Square\, 2251 Florin Road\, Sacramento\, CA\, 95822\, United States
CATEGORIES:Community Event
ORGANIZER;CN="Escape Velocity Resources Foundation Inc":MAILTO:escapevelocityfoundationinc@gmail.com
END:VEVENT
BEGIN:VEVENT
DTSTART;TZID=America/Los_Angeles:20230328T130000
DTEND;TZID=America/Los_Angeles:20230328T150000
DTSTAMP:20260423T062618
CREATED:20230304T001040Z
LAST-MODIFIED:20230304T001040Z
UID:10000560-1680008400-1680015600@escapevelocityfoundation.com
SUMMARY:Healthy Black Families Collaborative Meeting
DESCRIPTION:
URL:https://escapevelocityfoundation.com/event/healthy-black-families-collaborative-meeting/2023-03-28/
CATEGORIES:Meeting
ORGANIZER;CN="Escape Velocity Resources Foundation Inc":MAILTO:escapevelocityfoundationinc@gmail.com
END:VEVENT
BEGIN:VEVENT
DTSTART;TZID=America/Los_Angeles:20230425T130000
DTEND;TZID=America/Los_Angeles:20230425T150000
DTSTAMP:20260423T062618
CREATED:20230304T001040Z
LAST-MODIFIED:20230304T001040Z
UID:10000561-1682427600-1682434800@escapevelocityfoundation.com
SUMMARY:Healthy Black Families Collaborative Meeting
DESCRIPTION:
URL:https://escapevelocityfoundation.com/event/healthy-black-families-collaborative-meeting/2023-04-25/
CATEGORIES:Meeting
ORGANIZER;CN="Escape Velocity Resources Foundation Inc":MAILTO:escapevelocityfoundationinc@gmail.com
END:VEVENT
BEGIN:VEVENT
DTSTART;TZID=America/Los_Angeles:20230627T130000
DTEND;TZID=America/Los_Angeles:20230627T150000
DTSTAMP:20260423T062618
CREATED:20230304T001040Z
LAST-MODIFIED:20230304T001040Z
UID:10000563-1687870800-1687878000@escapevelocityfoundation.com
SUMMARY:Healthy Black Families Collaborative Meeting
DESCRIPTION:
URL:https://escapevelocityfoundation.com/event/healthy-black-families-collaborative-meeting/2023-06-27/
CATEGORIES:Meeting
ORGANIZER;CN="Escape Velocity Resources Foundation Inc":MAILTO:escapevelocityfoundationinc@gmail.com
END:VEVENT
BEGIN:VEVENT
DTSTART;TZID=America/Los_Angeles:20230725T130000
DTEND;TZID=America/Los_Angeles:20230725T150000
DTSTAMP:20260423T062618
CREATED:20230304T001040Z
LAST-MODIFIED:20230304T001040Z
UID:10000564-1690290000-1690297200@escapevelocityfoundation.com
SUMMARY:Healthy Black Families Collaborative Meeting
DESCRIPTION:
URL:https://escapevelocityfoundation.com/event/healthy-black-families-collaborative-meeting/2023-07-25/
CATEGORIES:Meeting
ORGANIZER;CN="Escape Velocity Resources Foundation Inc":MAILTO:escapevelocityfoundationinc@gmail.com
END:VEVENT
BEGIN:VEVENT
DTSTART;TZID=America/Los_Angeles:20230829T130000
DTEND;TZID=America/Los_Angeles:20230829T150000
DTSTAMP:20260423T062618
CREATED:20230304T001040Z
LAST-MODIFIED:20230304T001040Z
UID:10000565-1693314000-1693321200@escapevelocityfoundation.com
SUMMARY:Healthy Black Families Collaborative Meeting
DESCRIPTION:
URL:https://escapevelocityfoundation.com/event/healthy-black-families-collaborative-meeting/2023-08-29/
CATEGORIES:Meeting
ORGANIZER;CN="Escape Velocity Resources Foundation Inc":MAILTO:escapevelocityfoundationinc@gmail.com
END:VEVENT
BEGIN:VEVENT
DTSTART;TZID=America/Los_Angeles:20230926T130000
DTEND;TZID=America/Los_Angeles:20230926T150000
DTSTAMP:20260423T062618
CREATED:20230304T001040Z
LAST-MODIFIED:20230304T001040Z
UID:10000566-1695733200-1695740400@escapevelocityfoundation.com
SUMMARY:Healthy Black Families Collaborative Meeting
DESCRIPTION:
URL:https://escapevelocityfoundation.com/event/healthy-black-families-collaborative-meeting/2023-09-26/
CATEGORIES:Meeting
ORGANIZER;CN="Escape Velocity Resources Foundation Inc":MAILTO:escapevelocityfoundationinc@gmail.com
END:VEVENT
BEGIN:VEVENT
DTSTART;TZID=America/Los_Angeles:20231031T130000
DTEND;TZID=America/Los_Angeles:20231031T150000
DTSTAMP:20260423T062618
CREATED:20230304T001040Z
LAST-MODIFIED:20230304T001040Z
UID:10000567-1698757200-1698764400@escapevelocityfoundation.com
SUMMARY:Healthy Black Families Collaborative Meeting
DESCRIPTION:
URL:https://escapevelocityfoundation.com/event/healthy-black-families-collaborative-meeting/2023-10-31/
CATEGORIES:Meeting
ORGANIZER;CN="Escape Velocity Resources Foundation Inc":MAILTO:escapevelocityfoundationinc@gmail.com
END:VEVENT
BEGIN:VEVENT
DTSTART;TZID=America/Los_Angeles:20231128T183000
DTEND;TZID=America/Los_Angeles:20231128T203000
DTSTAMP:20260423T062618
CREATED:20231115T014722Z
LAST-MODIFIED:20231115T014723Z
UID:10000568-1701196200-1701203400@escapevelocityfoundation.com
SUMMARY:Healthy Black Families Collaborative Training
DESCRIPTION:WEAVE 101
URL:https://escapevelocityfoundation.com/event/healthy-black-families-collaborative-meeting-2/
CATEGORIES:HBFC,Training
ORGANIZER;CN="Escape Velocity Resources Foundation Inc":MAILTO:escapevelocityfoundationinc@gmail.com
END:VEVENT
END:VCALENDAR