BEGIN:VCALENDAR
VERSION:2.0
PRODID:-//Escape Velocity Resources Foundation, Inc - ECPv6.15.20//NONSGML v1.0//EN
CALSCALE:GREGORIAN
METHOD:PUBLISH
X-ORIGINAL-URL:https://escapevelocityfoundation.com
X-WR-CALDESC:Events for Escape Velocity Resources Foundation, Inc
REFRESH-INTERVAL;VALUE=DURATION:PT1H
X-Robots-Tag:noindex
X-PUBLISHED-TTL:PT1H
BEGIN:VTIMEZONE
TZID:America/Los_Angeles
BEGIN:DAYLIGHT
TZOFFSETFROM:-0800
TZOFFSETTO:-0700
TZNAME:PDT
DTSTART:20210314T100000
END:DAYLIGHT
BEGIN:STANDARD
TZOFFSETFROM:-0700
TZOFFSETTO:-0800
TZNAME:PST
DTSTART:20211107T090000
END:STANDARD
BEGIN:DAYLIGHT
TZOFFSETFROM:-0800
TZOFFSETTO:-0700
TZNAME:PDT
DTSTART:20220313T100000
END:DAYLIGHT
BEGIN:STANDARD
TZOFFSETFROM:-0700
TZOFFSETTO:-0800
TZNAME:PST
DTSTART:20221106T090000
END:STANDARD
BEGIN:DAYLIGHT
TZOFFSETFROM:-0800
TZOFFSETTO:-0700
TZNAME:PDT
DTSTART:20230312T100000
END:DAYLIGHT
BEGIN:STANDARD
TZOFFSETFROM:-0700
TZOFFSETTO:-0800
TZNAME:PST
DTSTART:20231105T090000
END:STANDARD
END:VTIMEZONE
BEGIN:VEVENT
DTSTART;TZID=America/Los_Angeles:20220409T120000
DTEND;TZID=America/Los_Angeles:20220409T160000
DTSTAMP:20260423T154557
CREATED:20220329T214403Z
LAST-MODIFIED:20220329T214403Z
UID:10000391-1649505600-1649520000@escapevelocityfoundation.com
SUMMARY:Health is Wealth Community Fair
DESCRIPTION:Escape Velocity is a member of Live Well South Sacramento and we are excited to be a vendor at this community fair with FREE activities\, food\, services\, games and more! Escape Velocity will be providing free books\, journals\, and more. Share with family and friends of South Sacramento. \nApril 9\, 2022\n12-4pm\n10am-4pm (Vaccines 5 yrs and older – Scan the QR code to register)\nMack Rd Valley Hi Community Center\n7833 Center Pkwy\, Sac\, CA 95823
URL:https://escapevelocityfoundation.com/event/health-is-wealth-community-fair/
LOCATION:Mack Rd Valley Hi Community Center\, 7833 Center Parkway\, Sacramento\, CA\, 95823\, United States
CATEGORIES:Community Event,Youth Event
ATTACH;FMTTYPE=image/png:https://escapevelocityfoundation.com/wp-content/uploads/Health-is-Wealth-event-flyer-2022.png
ORGANIZER;CN="Escape Velocity Resources Foundation Inc":MAILTO:escapevelocityfoundationinc@gmail.com
END:VEVENT
END:VCALENDAR