BEGIN:VCALENDAR
VERSION:2.0
PRODID:-//Escape Velocity Resources Foundation, Inc - ECPv6.15.20//NONSGML v1.0//EN
CALSCALE:GREGORIAN
METHOD:PUBLISH
X-WR-CALNAME:Escape Velocity Resources Foundation, Inc
X-ORIGINAL-URL:https://escapevelocityfoundation.com
X-WR-CALDESC:Events for Escape Velocity Resources Foundation, Inc
REFRESH-INTERVAL;VALUE=DURATION:PT1H
X-Robots-Tag:noindex
X-PUBLISHED-TTL:PT1H
BEGIN:VTIMEZONE
TZID:America/Los_Angeles
BEGIN:DAYLIGHT
TZOFFSETFROM:-0800
TZOFFSETTO:-0700
TZNAME:PDT
DTSTART:20200308T100000
END:DAYLIGHT
BEGIN:STANDARD
TZOFFSETFROM:-0700
TZOFFSETTO:-0800
TZNAME:PST
DTSTART:20201101T090000
END:STANDARD
BEGIN:DAYLIGHT
TZOFFSETFROM:-0800
TZOFFSETTO:-0700
TZNAME:PDT
DTSTART:20210314T100000
END:DAYLIGHT
BEGIN:STANDARD
TZOFFSETFROM:-0700
TZOFFSETTO:-0800
TZNAME:PST
DTSTART:20211107T090000
END:STANDARD
BEGIN:DAYLIGHT
TZOFFSETFROM:-0800
TZOFFSETTO:-0700
TZNAME:PDT
DTSTART:20220313T100000
END:DAYLIGHT
BEGIN:STANDARD
TZOFFSETFROM:-0700
TZOFFSETTO:-0800
TZNAME:PST
DTSTART:20221106T090000
END:STANDARD
BEGIN:DAYLIGHT
TZOFFSETFROM:-0800
TZOFFSETTO:-0700
TZNAME:PDT
DTSTART:20230312T100000
END:DAYLIGHT
BEGIN:STANDARD
TZOFFSETFROM:-0700
TZOFFSETTO:-0800
TZNAME:PST
DTSTART:20231105T090000
END:STANDARD
BEGIN:DAYLIGHT
TZOFFSETFROM:-0800
TZOFFSETTO:-0700
TZNAME:PDT
DTSTART:20240310T100000
END:DAYLIGHT
BEGIN:STANDARD
TZOFFSETFROM:-0700
TZOFFSETTO:-0800
TZNAME:PST
DTSTART:20241103T090000
END:STANDARD
END:VTIMEZONE
BEGIN:VEVENT
DTSTART;VALUE=DATE:20211130
DTEND;VALUE=DATE:20211201
DTSTAMP:20260423T190245
CREATED:20211116T193713Z
LAST-MODIFIED:20211116T213738Z
UID:10000382-1638230400-1638316799@escapevelocityfoundation.com
SUMMARY:Give the Gift of Literacy on Giving Tuesday
DESCRIPTION:Giving Tuesday is November 30\, 2021! \nWe’re thrilled to join thousands of organizations across the globe participating in the largest giving day of the year. Our organization has set a goal to raise $5000 in just 24 hours—It’ll be a group effort to get there\, but the impact your donations will have is incredible.
URL:https://escapevelocityfoundation.com/event/give-the-gift-of-literacy-on-giving-tuesday/
CATEGORIES:Fundraiser
ORGANIZER;CN="Escape Velocity Resources Foundation Inc":MAILTO:escapevelocityfoundationinc@gmail.com
END:VEVENT
BEGIN:VEVENT
DTSTART;TZID=America/Los_Angeles:20230524T080000
DTEND;TZID=America/Los_Angeles:20230624T233000
DTSTAMP:20260423T190245
CREATED:20230525T020428Z
LAST-MODIFIED:20230525T020428Z
UID:10000737-1684915200-1687649400@escapevelocityfoundation.com
SUMMARY:4th Annual Books in the Park - Sponsorships
DESCRIPTION:Dear Valued Supporter\, \nWe hope this message finds you well and in the mood to make a difference in the lives of our youth. The Escape Velocity Resources Foundation is excited to announce our 4th Annual Books in the Park event\, and we’re looking for sponsors to help us make it the best one yet! \nOur event is a celebration of literature and imagination\, bringing together young minds from all walks of life to enjoy a day of storytelling\, games\, and activities. With your help\, we can provide the youth with an experience they’ll never forget. \nWe’re reaching out to you to see if you’d be interested in sponsoring this incredible event. Your contribution will go towards providing books\, food\, and supplies for our young attendees\, as well as helping us cover the cost of the venue and activities. \nThe event will take place on Saturday\, July 1st at 11:30AM. We’re looking for sponsors who are passionate about education and community\, and who want to make a real difference in the lives of our youth. \nIf you’re interested in sponsoring our 4th Annual Books in the Park event\, please make a donation on Eventbrite or donate here. We only have a limited number of sponsorship opportunities available\, so please act fast to secure your spot. \nThank you for your continued support of the Escape Velocity Resources Foundation and our mission to empower young minds through education and imagination. \nBest regards\, \nEscape Velocity Resources Foundation
URL:https://escapevelocityfoundation.com/event/4th-annual-books-in-the-park-sponsorships/
CATEGORIES:Around the Way Girls,Boys in the Hood,Fundraiser
ORGANIZER;CN="Escape Velocity Resources Foundation Inc":MAILTO:escapevelocityfoundationinc@gmail.com
END:VEVENT
END:VCALENDAR