BEGIN:VCALENDAR
VERSION:2.0
PRODID:-//Escape Velocity Resources Foundation, Inc - ECPv6.15.20//NONSGML v1.0//EN
CALSCALE:GREGORIAN
METHOD:PUBLISH
X-WR-CALNAME:Escape Velocity Resources Foundation, Inc
X-ORIGINAL-URL:https://escapevelocityfoundation.com
X-WR-CALDESC:Events for Escape Velocity Resources Foundation, Inc
REFRESH-INTERVAL;VALUE=DURATION:PT1H
X-Robots-Tag:noindex
X-PUBLISHED-TTL:PT1H
BEGIN:VTIMEZONE
TZID:America/Los_Angeles
BEGIN:DAYLIGHT
TZOFFSETFROM:-0800
TZOFFSETTO:-0700
TZNAME:PDT
DTSTART:20230312T100000
END:DAYLIGHT
BEGIN:STANDARD
TZOFFSETFROM:-0700
TZOFFSETTO:-0800
TZNAME:PST
DTSTART:20231105T090000
END:STANDARD
BEGIN:DAYLIGHT
TZOFFSETFROM:-0800
TZOFFSETTO:-0700
TZNAME:PDT
DTSTART:20240310T100000
END:DAYLIGHT
BEGIN:STANDARD
TZOFFSETFROM:-0700
TZOFFSETTO:-0800
TZNAME:PST
DTSTART:20241103T090000
END:STANDARD
BEGIN:DAYLIGHT
TZOFFSETFROM:-0800
TZOFFSETTO:-0700
TZNAME:PDT
DTSTART:20250309T100000
END:DAYLIGHT
BEGIN:STANDARD
TZOFFSETFROM:-0700
TZOFFSETTO:-0800
TZNAME:PST
DTSTART:20251102T090000
END:STANDARD
END:VTIMEZONE
BEGIN:VEVENT
DTSTART;TZID=America/Los_Angeles:20240629T110000
DTEND;TZID=America/Los_Angeles:20240629T150000
DTSTAMP:20260423T065122
CREATED:20240113T000959Z
LAST-MODIFIED:20240523T051903Z
UID:10000986-1719658800-1719673200@escapevelocityfoundation.com
SUMMARY:4th Annual Dana Maeshia Resource Fair
DESCRIPTION:Join us for the 4th Annual Dana Maeshia Resource Fair\, a fantastic event packed with resources and information for the community. This year\, we are excited to host the fair in person again at the Mack Road Valley Hi Community Center. Don’t miss out on this opportunity to connect with local organizations and discover valuable resources that can improve your well-being. From health and wellness to education and employment\, the fair has something for everyone. Mark your calendars and come join us for a day of learning\, networking\, and fun! Free Food for the first 300 people\, free hair cuts\, games\, kids corner\, resource vendors\, Live DJ\, and more. \nWe are grateful for the support of our sponsors Kaiser Permanente\, Councilmember Mai Vang\, Councilmember Caity Maple\, SMUD\, and WEAVE. Thank you to our wonderful community partners: Sacramento Children’s Home-The Village Program\, Health Education Council\, and Mack Road Partnership/ReImagine Mack Road. \nFor sponsorships\, contact Felicia Armelin \nFor vendors\, contact Andrea Toscano  \n 
URL:https://escapevelocityfoundation.com/event/4th-annual-dana-maeshia-resource-fair/
LOCATION:Mack Rd Valley Hi Community Center\, 7833 Center Parkway\, Sacramento\, CA\, 95823\, United States
CATEGORIES:Community Event,Youth Event
ORGANIZER;CN="Escape Velocity Resources Foundation Inc":MAILTO:escapevelocityfoundationinc@gmail.com
END:VEVENT
END:VCALENDAR