BEGIN:VCALENDAR
VERSION:2.0
PRODID:-//Escape Velocity Resources Foundation, Inc - ECPv6.15.20//NONSGML v1.0//EN
CALSCALE:GREGORIAN
METHOD:PUBLISH
X-WR-CALNAME:Escape Velocity Resources Foundation, Inc
X-ORIGINAL-URL:https://escapevelocityfoundation.com
X-WR-CALDESC:Events for Escape Velocity Resources Foundation, Inc
REFRESH-INTERVAL;VALUE=DURATION:PT1H
X-Robots-Tag:noindex
X-PUBLISHED-TTL:PT1H
BEGIN:VTIMEZONE
TZID:America/Los_Angeles
BEGIN:DAYLIGHT
TZOFFSETFROM:-0800
TZOFFSETTO:-0700
TZNAME:PDT
DTSTART:20210314T100000
END:DAYLIGHT
BEGIN:STANDARD
TZOFFSETFROM:-0700
TZOFFSETTO:-0800
TZNAME:PST
DTSTART:20211107T090000
END:STANDARD
BEGIN:DAYLIGHT
TZOFFSETFROM:-0800
TZOFFSETTO:-0700
TZNAME:PDT
DTSTART:20220313T100000
END:DAYLIGHT
BEGIN:STANDARD
TZOFFSETFROM:-0700
TZOFFSETTO:-0800
TZNAME:PST
DTSTART:20221106T090000
END:STANDARD
BEGIN:DAYLIGHT
TZOFFSETFROM:-0800
TZOFFSETTO:-0700
TZNAME:PDT
DTSTART:20230312T100000
END:DAYLIGHT
BEGIN:STANDARD
TZOFFSETFROM:-0700
TZOFFSETTO:-0800
TZNAME:PST
DTSTART:20231105T090000
END:STANDARD
BEGIN:DAYLIGHT
TZOFFSETFROM:-0800
TZOFFSETTO:-0700
TZNAME:PDT
DTSTART:20240310T100000
END:DAYLIGHT
BEGIN:STANDARD
TZOFFSETFROM:-0700
TZOFFSETTO:-0800
TZNAME:PST
DTSTART:20241103T090000
END:STANDARD
BEGIN:DAYLIGHT
TZOFFSETFROM:-0800
TZOFFSETTO:-0700
TZNAME:PDT
DTSTART:20250309T100000
END:DAYLIGHT
BEGIN:STANDARD
TZOFFSETFROM:-0700
TZOFFSETTO:-0800
TZNAME:PST
DTSTART:20251102T090000
END:STANDARD
END:VTIMEZONE
BEGIN:VEVENT
DTSTART;TZID=America/Los_Angeles:20220108T130000
DTEND;TZID=America/Los_Angeles:20220108T150000
DTSTAMP:20260423T160548
CREATED:20220108T024812Z
LAST-MODIFIED:20220108T024812Z
UID:10000386-1641646800-1641654000@escapevelocityfoundation.com
SUMMARY:Mother Daughter Table Talk
DESCRIPTION:Join mother and daughter Astrid and Valencia as they discuss strengthening communication between mothers and daughters. We ask the community to join in on the discussion and give their insights. \nAstrid and Valencia are both Ambassadors of the Healthy Black Families Collaborative. They are using their skills and love to engage the community. \n 
URL:https://escapevelocityfoundation.com/event/mother-daughter-table-talk/
LOCATION:Sojourner Truth Multicultural Art Museum\, 2251 Florin Rd\, #126\, Sacramento\, CA\, 95822\, United States
CATEGORIES:Community Event
ATTACH;FMTTYPE=image/png:https://escapevelocityfoundation.com/wp-content/uploads/Mother-Daughter-Table-Talk-Event-400-x-400-px.png
ORGANIZER;CN="Escape Velocity Resources Foundation Inc":MAILTO:escapevelocityfoundationinc@gmail.com
END:VEVENT
BEGIN:VEVENT
DTSTART;TZID=America/Los_Angeles:20231219T130000
DTEND;TZID=America/Los_Angeles:20231219T150000
DTSTAMP:20260423T160548
CREATED:20231115T014850Z
LAST-MODIFIED:20231115T014850Z
UID:10000879-1702990800-1702998000@escapevelocityfoundation.com
SUMMARY:Healthy Black Families Collaborative Meeting
DESCRIPTION:Monthly meetings every 4th Tuesday
URL:https://escapevelocityfoundation.com/event/healthy-black-families-collaborative-meeting-3/
CATEGORIES:HBFC,Meeting
ORGANIZER;CN="Escape Velocity Resources Foundation Inc":MAILTO:escapevelocityfoundationinc@gmail.com
END:VEVENT
BEGIN:VEVENT
DTSTART;TZID=America/Los_Angeles:20240123T130000
DTEND;TZID=America/Los_Angeles:20240123T150000
DTSTAMP:20260423T160548
CREATED:20231115T020833Z
LAST-MODIFIED:20231115T020905Z
UID:10000930-1706014800-1706022000@escapevelocityfoundation.com
SUMMARY:Healthy Black Families Collaborative Meeting
DESCRIPTION:
URL:https://escapevelocityfoundation.com/event/healthy-black-families-collaborative-meeting-4/2024-01-23/
CATEGORIES:HBFC,Meeting
ORGANIZER;CN="Escape Velocity Resources Foundation Inc":MAILTO:escapevelocityfoundationinc@gmail.com
END:VEVENT
BEGIN:VEVENT
DTSTART;TZID=America/Los_Angeles:20240227T130000
DTEND;TZID=America/Los_Angeles:20240227T150000
DTSTAMP:20260423T160548
CREATED:20231115T020833Z
LAST-MODIFIED:20231115T020905Z
UID:10000931-1709038800-1709046000@escapevelocityfoundation.com
SUMMARY:Healthy Black Families Collaborative Meeting
DESCRIPTION:
URL:https://escapevelocityfoundation.com/event/healthy-black-families-collaborative-meeting-4/2024-02-27/
CATEGORIES:HBFC,Meeting
ORGANIZER;CN="Escape Velocity Resources Foundation Inc":MAILTO:escapevelocityfoundationinc@gmail.com
END:VEVENT
BEGIN:VEVENT
DTSTART;TZID=America/Los_Angeles:20240326T130000
DTEND;TZID=America/Los_Angeles:20240326T150000
DTSTAMP:20260423T160548
CREATED:20231115T020833Z
LAST-MODIFIED:20231115T020905Z
UID:10000932-1711458000-1711465200@escapevelocityfoundation.com
SUMMARY:Healthy Black Families Collaborative Meeting
DESCRIPTION:
URL:https://escapevelocityfoundation.com/event/healthy-black-families-collaborative-meeting-4/2024-03-26/
CATEGORIES:HBFC,Meeting
ORGANIZER;CN="Escape Velocity Resources Foundation Inc":MAILTO:escapevelocityfoundationinc@gmail.com
END:VEVENT
END:VCALENDAR