BEGIN:VCALENDAR
VERSION:2.0
PRODID:-//Escape Velocity Resources Foundation, Inc - ECPv6.15.20//NONSGML v1.0//EN
CALSCALE:GREGORIAN
METHOD:PUBLISH
X-ORIGINAL-URL:https://escapevelocityfoundation.com
X-WR-CALDESC:Events for Escape Velocity Resources Foundation, Inc
REFRESH-INTERVAL;VALUE=DURATION:PT1H
X-Robots-Tag:noindex
X-PUBLISHED-TTL:PT1H
BEGIN:VTIMEZONE
TZID:America/Los_Angeles
BEGIN:DAYLIGHT
TZOFFSETFROM:-0800
TZOFFSETTO:-0700
TZNAME:PDT
DTSTART:20210314T100000
END:DAYLIGHT
BEGIN:STANDARD
TZOFFSETFROM:-0700
TZOFFSETTO:-0800
TZNAME:PST
DTSTART:20211107T090000
END:STANDARD
BEGIN:DAYLIGHT
TZOFFSETFROM:-0800
TZOFFSETTO:-0700
TZNAME:PDT
DTSTART:20220313T100000
END:DAYLIGHT
BEGIN:STANDARD
TZOFFSETFROM:-0700
TZOFFSETTO:-0800
TZNAME:PST
DTSTART:20221106T090000
END:STANDARD
BEGIN:DAYLIGHT
TZOFFSETFROM:-0800
TZOFFSETTO:-0700
TZNAME:PDT
DTSTART:20230312T100000
END:DAYLIGHT
BEGIN:STANDARD
TZOFFSETFROM:-0700
TZOFFSETTO:-0800
TZNAME:PST
DTSTART:20231105T090000
END:STANDARD
END:VTIMEZONE
BEGIN:VEVENT
DTSTART;TZID=America/Los_Angeles:20220302T183000
DTEND;TZID=America/Los_Angeles:20220302T200000
DTSTAMP:20260423T204641
CREATED:20220302T024253Z
LAST-MODIFIED:20220302T024253Z
UID:10000216-1646245800-1646251200@escapevelocityfoundation.com
SUMMARY:Around the Way Girls March Meetups
DESCRIPTION:Around the Way Girls Book Club Weekly Meeting \n3/2  & 3/9 – The girls will be reading “Mahalia Jackson” \n3/16 – Prepare for presentations \n3/23 – Guest speaker\, Judge Tameika Carter \n3/30 – Present on a woman in history \n 
URL:https://escapevelocityfoundation.com/event/around-the-way-girls-march-meetups/2022-03-02/
LOCATION:Zoom
CATEGORIES:Around the Way Girls,Book Club Meeting
ORGANIZER;CN="Escape Velocity Resources Foundation Inc":MAILTO:escapevelocityfoundationinc@gmail.com
END:VEVENT
BEGIN:VEVENT
DTSTART;TZID=America/Los_Angeles:20220309T183000
DTEND;TZID=America/Los_Angeles:20220309T200000
DTSTAMP:20260423T204641
CREATED:20220302T024253Z
LAST-MODIFIED:20220302T024253Z
UID:10000217-1646850600-1646856000@escapevelocityfoundation.com
SUMMARY:Around the Way Girls March Meetups
DESCRIPTION:Around the Way Girls Book Club Weekly Meeting \n3/2  & 3/9 – The girls will be reading “Mahalia Jackson” \n3/16 – Prepare for presentations \n3/23 – Guest speaker\, Judge Tameika Carter \n3/30 – Present on a woman in history \n 
URL:https://escapevelocityfoundation.com/event/around-the-way-girls-march-meetups/2022-03-09/
LOCATION:Zoom
CATEGORIES:Around the Way Girls,Book Club Meeting
ORGANIZER;CN="Escape Velocity Resources Foundation Inc":MAILTO:escapevelocityfoundationinc@gmail.com
END:VEVENT
BEGIN:VEVENT
DTSTART;TZID=America/Los_Angeles:20220316T183000
DTEND;TZID=America/Los_Angeles:20220316T200000
DTSTAMP:20260423T204641
CREATED:20220302T024253Z
LAST-MODIFIED:20220302T024253Z
UID:10000218-1647455400-1647460800@escapevelocityfoundation.com
SUMMARY:Around the Way Girls March Meetups
DESCRIPTION:Around the Way Girls Book Club Weekly Meeting \n3/2  & 3/9 – The girls will be reading “Mahalia Jackson” \n3/16 – Prepare for presentations \n3/23 – Guest speaker\, Judge Tameika Carter \n3/30 – Present on a woman in history \n 
URL:https://escapevelocityfoundation.com/event/around-the-way-girls-march-meetups/2022-03-16/
LOCATION:Zoom
CATEGORIES:Around the Way Girls,Book Club Meeting
ORGANIZER;CN="Escape Velocity Resources Foundation Inc":MAILTO:escapevelocityfoundationinc@gmail.com
END:VEVENT
BEGIN:VEVENT
DTSTART;TZID=America/Los_Angeles:20220323T183000
DTEND;TZID=America/Los_Angeles:20220323T200000
DTSTAMP:20260423T204641
CREATED:20220302T024253Z
LAST-MODIFIED:20220302T024253Z
UID:10000219-1648060200-1648065600@escapevelocityfoundation.com
SUMMARY:Around the Way Girls March Meetups
DESCRIPTION:Around the Way Girls Book Club Weekly Meeting \n3/2  & 3/9 – The girls will be reading “Mahalia Jackson” \n3/16 – Prepare for presentations \n3/23 – Guest speaker\, Judge Tameika Carter \n3/30 – Present on a woman in history \n 
URL:https://escapevelocityfoundation.com/event/around-the-way-girls-march-meetups/2022-03-23/
LOCATION:Zoom
CATEGORIES:Around the Way Girls,Book Club Meeting
ORGANIZER;CN="Escape Velocity Resources Foundation Inc":MAILTO:escapevelocityfoundationinc@gmail.com
END:VEVENT
BEGIN:VEVENT
DTSTART;TZID=America/Los_Angeles:20220330T183000
DTEND;TZID=America/Los_Angeles:20220330T200000
DTSTAMP:20260423T204641
CREATED:20220302T024253Z
LAST-MODIFIED:20220302T024253Z
UID:10000220-1648665000-1648670400@escapevelocityfoundation.com
SUMMARY:Around the Way Girls March Meetups
DESCRIPTION:Around the Way Girls Book Club Weekly Meeting \n3/2  & 3/9 – The girls will be reading “Mahalia Jackson” \n3/16 – Prepare for presentations \n3/23 – Guest speaker\, Judge Tameika Carter \n3/30 – Present on a woman in history \n 
URL:https://escapevelocityfoundation.com/event/around-the-way-girls-march-meetups/2022-03-30/
LOCATION:Zoom
CATEGORIES:Around the Way Girls,Book Club Meeting
ORGANIZER;CN="Escape Velocity Resources Foundation Inc":MAILTO:escapevelocityfoundationinc@gmail.com
END:VEVENT
END:VCALENDAR