BEGIN:VCALENDAR
VERSION:2.0
PRODID:-//Escape Velocity Resources Foundation, Inc - ECPv6.15.20//NONSGML v1.0//EN
CALSCALE:GREGORIAN
METHOD:PUBLISH
X-ORIGINAL-URL:https://escapevelocityfoundation.com
X-WR-CALDESC:Events for Escape Velocity Resources Foundation, Inc
REFRESH-INTERVAL;VALUE=DURATION:PT1H
X-Robots-Tag:noindex
X-PUBLISHED-TTL:PT1H
BEGIN:VTIMEZONE
TZID:America/Los_Angeles
BEGIN:DAYLIGHT
TZOFFSETFROM:-0800
TZOFFSETTO:-0700
TZNAME:PDT
DTSTART:20210314T100000
END:DAYLIGHT
BEGIN:STANDARD
TZOFFSETFROM:-0700
TZOFFSETTO:-0800
TZNAME:PST
DTSTART:20211107T090000
END:STANDARD
BEGIN:DAYLIGHT
TZOFFSETFROM:-0800
TZOFFSETTO:-0700
TZNAME:PDT
DTSTART:20220313T100000
END:DAYLIGHT
BEGIN:STANDARD
TZOFFSETFROM:-0700
TZOFFSETTO:-0800
TZNAME:PST
DTSTART:20221106T090000
END:STANDARD
BEGIN:DAYLIGHT
TZOFFSETFROM:-0800
TZOFFSETTO:-0700
TZNAME:PDT
DTSTART:20230312T100000
END:DAYLIGHT
BEGIN:STANDARD
TZOFFSETFROM:-0700
TZOFFSETTO:-0800
TZNAME:PST
DTSTART:20231105T090000
END:STANDARD
BEGIN:DAYLIGHT
TZOFFSETFROM:-0800
TZOFFSETTO:-0700
TZNAME:PDT
DTSTART:20240310T100000
END:DAYLIGHT
BEGIN:STANDARD
TZOFFSETFROM:-0700
TZOFFSETTO:-0800
TZNAME:PST
DTSTART:20241103T090000
END:STANDARD
BEGIN:DAYLIGHT
TZOFFSETFROM:-0800
TZOFFSETTO:-0700
TZNAME:PDT
DTSTART:20250309T100000
END:DAYLIGHT
BEGIN:STANDARD
TZOFFSETFROM:-0700
TZOFFSETTO:-0800
TZNAME:PST
DTSTART:20251102T090000
END:STANDARD
BEGIN:DAYLIGHT
TZOFFSETFROM:-0800
TZOFFSETTO:-0700
TZNAME:PDT
DTSTART:20260308T100000
END:DAYLIGHT
BEGIN:STANDARD
TZOFFSETFROM:-0700
TZOFFSETTO:-0800
TZNAME:PST
DTSTART:20261101T090000
END:STANDARD
END:VTIMEZONE
BEGIN:VEVENT
DTSTART;TZID=America/Los_Angeles:20220816T173000
DTEND;TZID=America/Los_Angeles:20220816T190000
DTSTAMP:20260424T143941
CREATED:20220803T225118Z
LAST-MODIFIED:20220803T225119Z
UID:10000308-1660671000-1660676400@escapevelocityfoundation.com
SUMMARY:Free Cash for College Workshop (Hispanic)
DESCRIPTION:THINKING ABOUT GOING TO COMMUNITY COLLEGE IN THE FALL? NEED MONEY TO ENROLL? Join California Community Colleges & CSAC Cash for College on August 16 from 5:30pm-7pm for a FREE ZOOM Cash for College Workshop focused on Hispanic students. Students who attend will have a chance at winning a $1\,000 scholarship.  \nAdditional information can be found on CSAC’s website here: https://www.csac.ca.gov/cash-college \nRegistration HERE \n 
URL:https://escapevelocityfoundation.com/event/free-cash-for-college-workshop-hispanic/
LOCATION:Zoom
CATEGORIES:Community Event,Workshop
ORGANIZER;CN="Escape Velocity Resources Foundation Inc":MAILTO:escapevelocityfoundationinc@gmail.com
END:VEVENT
BEGIN:VEVENT
DTSTART;TZID=America/Los_Angeles:20231201T120000
DTEND;TZID=America/Los_Angeles:20231201T130000
DTSTAMP:20260424T143941
CREATED:20231201T152524Z
LAST-MODIFIED:20231201T152524Z
UID:10000959-1701432000-1701435600@escapevelocityfoundation.com
SUMMARY:Dana Maeshia Resource Fair Planning Meeting
DESCRIPTION:Meeting to plan and prepare for the 4th Annual Dana Maeshia Resource Fair
URL:https://escapevelocityfoundation.com/event/dana-maeshia-resource-fair-planning-meeting/
LOCATION:Zoom
CATEGORIES:Meeting
ORGANIZER;CN="Escape Velocity Resources Foundation Inc":MAILTO:escapevelocityfoundationinc@gmail.com
END:VEVENT
BEGIN:VEVENT
DTSTART;TZID=America/Los_Angeles:20231219T140000
DTEND;TZID=America/Los_Angeles:20231219T150000
DTSTAMP:20260424T143941
CREATED:20231213T004732Z
LAST-MODIFIED:20231213T004732Z
UID:10000981-1702994400-1702998000@escapevelocityfoundation.com
SUMMARY:STH Comms Workshop
DESCRIPTION:
URL:https://escapevelocityfoundation.com/event/sth-comms-workshop/
LOCATION:Zoom
CATEGORIES:Stop the Hate,Workshop
END:VEVENT
BEGIN:VEVENT
DTSTART;TZID=America/Los_Angeles:20251004T140000
DTEND;TZID=America/Los_Angeles:20251004T170000
DTSTAMP:20260424T143941
CREATED:20250929T215756Z
LAST-MODIFIED:20250929T215756Z
UID:10001152-1759586400-1759597200@escapevelocityfoundation.com
SUMMARY:Bringing the Pieces Together: Community Day (Outreach)
DESCRIPTION:
URL:https://escapevelocityfoundation.com/event/bringing-the-pieces-together-community-day-outreach/
LOCATION:Blessed Faith Ministries\, 3400 Y Street\, Sacramento\, CA\, 95817\, United States
CATEGORIES:Community Event
ORGANIZER;CN="Escape Velocity Resources Foundation Inc":MAILTO:escapevelocityfoundationinc@gmail.com
END:VEVENT
END:VCALENDAR