BEGIN:VCALENDAR
VERSION:2.0
PRODID:-//Escape Velocity Resources Foundation, Inc - ECPv6.15.20//NONSGML v1.0//EN
CALSCALE:GREGORIAN
METHOD:PUBLISH
X-ORIGINAL-URL:https://escapevelocityfoundation.com
X-WR-CALDESC:Events for Escape Velocity Resources Foundation, Inc
REFRESH-INTERVAL;VALUE=DURATION:PT1H
X-Robots-Tag:noindex
X-PUBLISHED-TTL:PT1H
BEGIN:VTIMEZONE
TZID:America/Los_Angeles
BEGIN:DAYLIGHT
TZOFFSETFROM:-0800
TZOFFSETTO:-0700
TZNAME:PDT
DTSTART:20220313T100000
END:DAYLIGHT
BEGIN:STANDARD
TZOFFSETFROM:-0700
TZOFFSETTO:-0800
TZNAME:PST
DTSTART:20221106T090000
END:STANDARD
BEGIN:DAYLIGHT
TZOFFSETFROM:-0800
TZOFFSETTO:-0700
TZNAME:PDT
DTSTART:20230312T100000
END:DAYLIGHT
BEGIN:STANDARD
TZOFFSETFROM:-0700
TZOFFSETTO:-0800
TZNAME:PST
DTSTART:20231105T090000
END:STANDARD
BEGIN:DAYLIGHT
TZOFFSETFROM:-0800
TZOFFSETTO:-0700
TZNAME:PDT
DTSTART:20240310T100000
END:DAYLIGHT
BEGIN:STANDARD
TZOFFSETFROM:-0700
TZOFFSETTO:-0800
TZNAME:PST
DTSTART:20241103T090000
END:STANDARD
END:VTIMEZONE
BEGIN:VEVENT
DTSTART;TZID=America/Los_Angeles:20231216T100000
DTEND;TZID=America/Los_Angeles:20231216T110000
DTSTAMP:20260423T154437
CREATED:20231206T223450Z
LAST-MODIFIED:20231206T223450Z
UID:10000961-1702720800-1702724400@escapevelocityfoundation.com
SUMMARY:FRCBP - Youth Ambassador Check-in
DESCRIPTION:Check-in on PSA materials
URL:https://escapevelocityfoundation.com/event/frcbp-youth-ambassador-check-in/
LOCATION:Zoom
CATEGORIES:FRCBP,Meeting
ORGANIZER;CN="Escape Velocity Resources Foundation Inc":MAILTO:escapevelocityfoundationinc@gmail.com
END:VEVENT
BEGIN:VEVENT
DTSTART;TZID=America/Los_Angeles:20231223T100000
DTEND;TZID=America/Los_Angeles:20231223T110000
DTSTAMP:20260423T154437
CREATED:20231213T033101Z
LAST-MODIFIED:20231213T033101Z
UID:10000983-1703325600-1703329200@escapevelocityfoundation.com
SUMMARY:FRCBP - Youth Ambassador Check-in
DESCRIPTION:
URL:https://escapevelocityfoundation.com/event/frcbp-youth-ambassador-check-in-2/
LOCATION:Zoom
CATEGORIES:FRCBP,Youth Development
ORGANIZER;CN="Escape Velocity Resources Foundation Inc":MAILTO:escapevelocityfoundationinc@gmail.com
END:VEVENT
END:VCALENDAR