BEGIN:VCALENDAR
VERSION:2.0
PRODID:-//Escape Velocity Resources Foundation, Inc - ECPv6.15.20//NONSGML v1.0//EN
CALSCALE:GREGORIAN
METHOD:PUBLISH
X-ORIGINAL-URL:https://escapevelocityfoundation.com
X-WR-CALDESC:Events for Escape Velocity Resources Foundation, Inc
REFRESH-INTERVAL;VALUE=DURATION:PT1H
X-Robots-Tag:noindex
X-PUBLISHED-TTL:PT1H
BEGIN:VTIMEZONE
TZID:America/Los_Angeles
BEGIN:DAYLIGHT
TZOFFSETFROM:-0800
TZOFFSETTO:-0700
TZNAME:PDT
DTSTART:20220313T100000
END:DAYLIGHT
BEGIN:STANDARD
TZOFFSETFROM:-0700
TZOFFSETTO:-0800
TZNAME:PST
DTSTART:20221106T090000
END:STANDARD
BEGIN:DAYLIGHT
TZOFFSETFROM:-0800
TZOFFSETTO:-0700
TZNAME:PDT
DTSTART:20230312T100000
END:DAYLIGHT
BEGIN:STANDARD
TZOFFSETFROM:-0700
TZOFFSETTO:-0800
TZNAME:PST
DTSTART:20231105T090000
END:STANDARD
BEGIN:DAYLIGHT
TZOFFSETFROM:-0800
TZOFFSETTO:-0700
TZNAME:PDT
DTSTART:20240310T100000
END:DAYLIGHT
BEGIN:STANDARD
TZOFFSETFROM:-0700
TZOFFSETTO:-0800
TZNAME:PST
DTSTART:20241103T090000
END:STANDARD
END:VTIMEZONE
BEGIN:VEVENT
DTSTART;VALUE=DATE:20230801
DTEND;VALUE=DATE:20230901
DTSTAMP:20260423T065059
CREATED:20230809T205006Z
LAST-MODIFIED:20230809T205006Z
UID:10000777-1690848000-1693526399@escapevelocityfoundation.com
SUMMARY:Back to School Supply Drive
DESCRIPTION:Help our families start the school year off! We are excepting all school supplies for K-College\, supplies\, gift cards\, electronics…any item can help. \nItems can be dropped off at All Things Literacy Bookstore inside Florin Square\, 2251 Florin Rd\, #113\, Sacramento\, CA 95822 from Tues-Thurs or Saturday 12pm-6pm. \nProgram youth will receive backpacks/supplies on 9/2/23. \nContact Asali for questions or drop-offs/pickups at 916-729-9842 \nYou can also donate funds to buy supplies – CashApp @literacyadvocate or PayPal @escapinggravity
URL:https://escapevelocityfoundation.com/event/back-to-school-supply-drive/
LOCATION:All Things Literacy Books & More Bookstore\, 2251 Florin Rd\, 113\, Sacramento\, California\, 95822\, United States
ORGANIZER;CN="Escape Velocity Resources Foundation Inc":MAILTO:escapevelocityfoundationinc@gmail.com
END:VEVENT
END:VCALENDAR