BEGIN:VCALENDAR
VERSION:2.0
PRODID:-//Escape Velocity Resources Foundation, Inc - ECPv6.15.20//NONSGML v1.0//EN
CALSCALE:GREGORIAN
METHOD:PUBLISH
X-ORIGINAL-URL:https://escapevelocityfoundation.com
X-WR-CALDESC:Events for Escape Velocity Resources Foundation, Inc
REFRESH-INTERVAL;VALUE=DURATION:PT1H
X-Robots-Tag:noindex
X-PUBLISHED-TTL:PT1H
BEGIN:VTIMEZONE
TZID:America/Los_Angeles
BEGIN:DAYLIGHT
TZOFFSETFROM:-0800
TZOFFSETTO:-0700
TZNAME:PDT
DTSTART:20210314T100000
END:DAYLIGHT
BEGIN:STANDARD
TZOFFSETFROM:-0700
TZOFFSETTO:-0800
TZNAME:PST
DTSTART:20211107T090000
END:STANDARD
BEGIN:DAYLIGHT
TZOFFSETFROM:-0800
TZOFFSETTO:-0700
TZNAME:PDT
DTSTART:20220313T100000
END:DAYLIGHT
BEGIN:STANDARD
TZOFFSETFROM:-0700
TZOFFSETTO:-0800
TZNAME:PST
DTSTART:20221106T090000
END:STANDARD
BEGIN:DAYLIGHT
TZOFFSETFROM:-0800
TZOFFSETTO:-0700
TZNAME:PDT
DTSTART:20230312T100000
END:DAYLIGHT
BEGIN:STANDARD
TZOFFSETFROM:-0700
TZOFFSETTO:-0800
TZNAME:PST
DTSTART:20231105T090000
END:STANDARD
END:VTIMEZONE
BEGIN:VEVENT
DTSTART;TZID=America/Los_Angeles:20220907T183000
DTEND;TZID=America/Los_Angeles:20220907T200000
DTSTAMP:20260423T220840
CREATED:20220905T184224Z
LAST-MODIFIED:20220928T060106Z
UID:10000316-1662575400-1662580800@escapevelocityfoundation.com
SUMMARY:Around the Way Girls Book Club Meetups (Sept)
DESCRIPTION:Around the Way Girls Book Club is reading P.S. Be Eleven this month. Join us for some fun\, friendship and literacy! Visit the ATWG page to learn more on how to join. \nThe girls will have guest speaker\, Jessica McCall – Ms Black USA on Wednesday 9/28/22
URL:https://escapevelocityfoundation.com/event/around-the-way-girls-book-club-meetups-sept/2022-09-07/
LOCATION:Zoom
CATEGORIES:Around the Way Girls,Book Club Meeting
ORGANIZER;CN="Escape Velocity Resources Foundation Inc":MAILTO:escapevelocityfoundationinc@gmail.com
END:VEVENT
BEGIN:VEVENT
DTSTART;TZID=America/Los_Angeles:20220914T183000
DTEND;TZID=America/Los_Angeles:20220914T200000
DTSTAMP:20260423T220840
CREATED:20220905T184224Z
LAST-MODIFIED:20220928T060106Z
UID:10000317-1663180200-1663185600@escapevelocityfoundation.com
SUMMARY:Around the Way Girls Book Club Meetups (Sept)
DESCRIPTION:Around the Way Girls Book Club is reading P.S. Be Eleven this month. Join us for some fun\, friendship and literacy! Visit the ATWG page to learn more on how to join. \nThe girls will have guest speaker\, Jessica McCall – Ms Black USA on Wednesday 9/28/22
URL:https://escapevelocityfoundation.com/event/around-the-way-girls-book-club-meetups-sept/2022-09-14/
LOCATION:Zoom
CATEGORIES:Around the Way Girls,Book Club Meeting
ORGANIZER;CN="Escape Velocity Resources Foundation Inc":MAILTO:escapevelocityfoundationinc@gmail.com
END:VEVENT
BEGIN:VEVENT
DTSTART;TZID=America/Los_Angeles:20220921T183000
DTEND;TZID=America/Los_Angeles:20220921T200000
DTSTAMP:20260423T220840
CREATED:20220905T184224Z
LAST-MODIFIED:20220928T060106Z
UID:10000318-1663785000-1663790400@escapevelocityfoundation.com
SUMMARY:Around the Way Girls Book Club Meetups (Sept)
DESCRIPTION:Around the Way Girls Book Club is reading P.S. Be Eleven this month. Join us for some fun\, friendship and literacy! Visit the ATWG page to learn more on how to join. \nThe girls will have guest speaker\, Jessica McCall – Ms Black USA on Wednesday 9/28/22
URL:https://escapevelocityfoundation.com/event/around-the-way-girls-book-club-meetups-sept/2022-09-21/
LOCATION:Zoom
CATEGORIES:Around the Way Girls,Book Club Meeting
ORGANIZER;CN="Escape Velocity Resources Foundation Inc":MAILTO:escapevelocityfoundationinc@gmail.com
END:VEVENT
BEGIN:VEVENT
DTSTART;TZID=America/Los_Angeles:20220928T183000
DTEND;TZID=America/Los_Angeles:20220928T200000
DTSTAMP:20260423T220840
CREATED:20220905T184224Z
LAST-MODIFIED:20220928T060106Z
UID:10000319-1664389800-1664395200@escapevelocityfoundation.com
SUMMARY:Around the Way Girls Book Club Meetups (Sept)
DESCRIPTION:Around the Way Girls Book Club is reading P.S. Be Eleven this month. Join us for some fun\, friendship and literacy! Visit the ATWG page to learn more on how to join. \nThe girls will have guest speaker\, Jessica McCall – Ms Black USA on Wednesday 9/28/22
URL:https://escapevelocityfoundation.com/event/around-the-way-girls-book-club-meetups-sept/2022-09-28/
LOCATION:Zoom
CATEGORIES:Around the Way Girls,Book Club Meeting
ORGANIZER;CN="Escape Velocity Resources Foundation Inc":MAILTO:escapevelocityfoundationinc@gmail.com
END:VEVENT
END:VCALENDAR