BEGIN:VCALENDAR
VERSION:2.0
PRODID:-//Escape Velocity Resources Foundation, Inc - ECPv6.15.20//NONSGML v1.0//EN
CALSCALE:GREGORIAN
METHOD:PUBLISH
X-ORIGINAL-URL:https://escapevelocityfoundation.com
X-WR-CALDESC:Events for Escape Velocity Resources Foundation, Inc
REFRESH-INTERVAL;VALUE=DURATION:PT1H
X-Robots-Tag:noindex
X-PUBLISHED-TTL:PT1H
BEGIN:VTIMEZONE
TZID:America/Los_Angeles
BEGIN:DAYLIGHT
TZOFFSETFROM:-0800
TZOFFSETTO:-0700
TZNAME:PDT
DTSTART:20220313T100000
END:DAYLIGHT
BEGIN:STANDARD
TZOFFSETFROM:-0700
TZOFFSETTO:-0800
TZNAME:PST
DTSTART:20221106T090000
END:STANDARD
BEGIN:DAYLIGHT
TZOFFSETFROM:-0800
TZOFFSETTO:-0700
TZNAME:PDT
DTSTART:20230312T100000
END:DAYLIGHT
BEGIN:STANDARD
TZOFFSETFROM:-0700
TZOFFSETTO:-0800
TZNAME:PST
DTSTART:20231105T090000
END:STANDARD
BEGIN:DAYLIGHT
TZOFFSETFROM:-0800
TZOFFSETTO:-0700
TZNAME:PDT
DTSTART:20240310T100000
END:DAYLIGHT
BEGIN:STANDARD
TZOFFSETFROM:-0700
TZOFFSETTO:-0800
TZNAME:PST
DTSTART:20241103T090000
END:STANDARD
BEGIN:DAYLIGHT
TZOFFSETFROM:-0800
TZOFFSETTO:-0700
TZNAME:PDT
DTSTART:20250309T100000
END:DAYLIGHT
BEGIN:STANDARD
TZOFFSETFROM:-0700
TZOFFSETTO:-0800
TZNAME:PST
DTSTART:20251102T090000
END:STANDARD
END:VTIMEZONE
BEGIN:VEVENT
DTSTART;TZID=America/Los_Angeles:20230203T180000
DTEND;TZID=America/Los_Angeles:20230203T210000
DTSTAMP:20260423T111918
CREATED:20230117T065537Z
LAST-MODIFIED:20230117T065606Z
UID:10000479-1675447200-1675458000@escapevelocityfoundation.com
SUMMARY:#SacTownYouthNights
DESCRIPTION:The Escape Velocity / Sojo Museum SacTownYouthNights is a catalyst for youth/teens/young adults and families to have a safe space to hang out on 1st and 3rd Friday nights from 6pm-9pm at Florin Square while enjoying a wide range of exciting activities in a positive environment. \nYouth will have an opportunity to network and get to know each other\, all while engaging in fun filled activities. Each event will have FREE food\, music\, games\, entertainment\, workshops\, literacy\, resources\, art and activities for the youth and their families. All are welcome!!
URL:https://escapevelocityfoundation.com/event/sactownyouthnights/2023-02-03/
LOCATION:Florin Square\, 2251 Florin Road\, Sacramento\, CA\, 95822\, United States
CATEGORIES:Community Event,Youth Event
ATTACH;FMTTYPE=image/jpeg:https://escapevelocityfoundation.com/wp-content/uploads/stynfeb23.jpg
ORGANIZER;CN="Escape Velocity Resources Foundation Inc":MAILTO:escapevelocityfoundationinc@gmail.com
END:VEVENT
BEGIN:VEVENT
DTSTART;TZID=America/Los_Angeles:20230217T180000
DTEND;TZID=America/Los_Angeles:20230217T210000
DTSTAMP:20260423T111918
CREATED:20230117T065537Z
LAST-MODIFIED:20230117T065606Z
UID:10000480-1676656800-1676667600@escapevelocityfoundation.com
SUMMARY:#SacTownYouthNights
DESCRIPTION:The Escape Velocity / Sojo Museum SacTownYouthNights is a catalyst for youth/teens/young adults and families to have a safe space to hang out on 1st and 3rd Friday nights from 6pm-9pm at Florin Square while enjoying a wide range of exciting activities in a positive environment. \nYouth will have an opportunity to network and get to know each other\, all while engaging in fun filled activities. Each event will have FREE food\, music\, games\, entertainment\, workshops\, literacy\, resources\, art and activities for the youth and their families. All are welcome!!
URL:https://escapevelocityfoundation.com/event/sactownyouthnights/2023-02-17/
LOCATION:Florin Square\, 2251 Florin Road\, Sacramento\, CA\, 95822\, United States
CATEGORIES:Community Event,Youth Event
ATTACH;FMTTYPE=image/jpeg:https://escapevelocityfoundation.com/wp-content/uploads/stynfeb23.jpg
ORGANIZER;CN="Escape Velocity Resources Foundation Inc":MAILTO:escapevelocityfoundationinc@gmail.com
END:VEVENT
BEGIN:VEVENT
DTSTART;TZID=America/Los_Angeles:20240127T180000
DTEND;TZID=America/Los_Angeles:20240127T210000
DTSTAMP:20260423T111918
CREATED:20240112T165408Z
LAST-MODIFIED:20240112T165408Z
UID:10000985-1706378400-1706389200@escapevelocityfoundation.com
SUMMARY:SacTownYouthNights - Glow in the Dark Party
DESCRIPTION:
URL:https://escapevelocityfoundation.com/event/sactownyouthnights-glow-in-the-dark-party/
LOCATION:Florin Square\, 2251 Florin Road\, Sacramento\, CA\, 95822\, United States
CATEGORIES:Community Event,Youth Ambassador,Youth Event
ORGANIZER;CN="Escape Velocity Resources Foundation Inc":MAILTO:escapevelocityfoundationinc@gmail.com
END:VEVENT
BEGIN:VEVENT
DTSTART;TZID=America/Los_Angeles:20240622T170000
DTEND;TZID=America/Los_Angeles:20240622T203000
DTSTAMP:20260423T111918
CREATED:20240613T224055Z
LAST-MODIFIED:20240613T224055Z
UID:10001120-1719075600-1719088200@escapevelocityfoundation.com
SUMMARY:SacTownYouthNights Family BBQ & Sports at the Park
DESCRIPTION:RSVP: https://www.eventbrite.com/e/sactownyouthnights-family-bbq-and-sports-at-the-park-tickets-917384721397 \n \n 
URL:https://escapevelocityfoundation.com/event/sactownyouthnights-family-bbq-sports-at-the-park/
LOCATION:Chorley Park\, 7063 20th Street\, Sacramento\, CA\, 95822
CATEGORIES:Community Event,Youth Event
ATTACH;FMTTYPE=image/jpeg:https://escapevelocityfoundation.com/wp-content/uploads/062224_STYN-BBQ_Flyer.jpg
ORGANIZER;CN="Escape Velocity Resources Foundation Inc":MAILTO:escapevelocityfoundationinc@gmail.com
END:VEVENT
END:VCALENDAR