BEGIN:VCALENDAR
VERSION:2.0
PRODID:-//Escape Velocity Resources Foundation, Inc - ECPv6.15.20//NONSGML v1.0//EN
CALSCALE:GREGORIAN
METHOD:PUBLISH
X-WR-CALNAME:Escape Velocity Resources Foundation, Inc
X-ORIGINAL-URL:https://escapevelocityfoundation.com
X-WR-CALDESC:Events for Escape Velocity Resources Foundation, Inc
REFRESH-INTERVAL;VALUE=DURATION:PT1H
X-Robots-Tag:noindex
X-PUBLISHED-TTL:PT1H
BEGIN:VTIMEZONE
TZID:America/Los_Angeles
BEGIN:DAYLIGHT
TZOFFSETFROM:-0800
TZOFFSETTO:-0700
TZNAME:PDT
DTSTART:20230312T100000
END:DAYLIGHT
BEGIN:STANDARD
TZOFFSETFROM:-0700
TZOFFSETTO:-0800
TZNAME:PST
DTSTART:20231105T090000
END:STANDARD
BEGIN:DAYLIGHT
TZOFFSETFROM:-0800
TZOFFSETTO:-0700
TZNAME:PDT
DTSTART:20240310T100000
END:DAYLIGHT
BEGIN:STANDARD
TZOFFSETFROM:-0700
TZOFFSETTO:-0800
TZNAME:PST
DTSTART:20241103T090000
END:STANDARD
BEGIN:DAYLIGHT
TZOFFSETFROM:-0800
TZOFFSETTO:-0700
TZNAME:PDT
DTSTART:20250309T100000
END:DAYLIGHT
BEGIN:STANDARD
TZOFFSETFROM:-0700
TZOFFSETTO:-0800
TZNAME:PST
DTSTART:20251102T090000
END:STANDARD
BEGIN:DAYLIGHT
TZOFFSETFROM:-0800
TZOFFSETTO:-0700
TZNAME:PDT
DTSTART:20260308T100000
END:DAYLIGHT
BEGIN:STANDARD
TZOFFSETFROM:-0700
TZOFFSETTO:-0800
TZNAME:PST
DTSTART:20261101T090000
END:STANDARD
END:VTIMEZONE
BEGIN:VEVENT
DTSTART;TZID=America/Los_Angeles:20250806T100000
DTEND;TZID=America/Los_Angeles:20250806T110000
DTSTAMP:20260423T191951
CREATED:20231115T013816Z
LAST-MODIFIED:20231115T014053Z
UID:10000839-1754474400-1754478000@escapevelocityfoundation.com
SUMMARY:Sacramento Literacy Coalition Meeting
DESCRIPTION:Monthly literacy coalition meeting \nLiteracy Coalition Monthly Check-In \n \n\n\n	Related
URL:https://escapevelocityfoundation.com/event/sacramento-literacy-coalition-meeting-2/2025-08-06/
LOCATION:Zoom
CATEGORIES:literacy,Meeting
ORGANIZER;CN="Escape Velocity Resources Foundation Inc":MAILTO:escapevelocityfoundationinc@gmail.com
END:VEVENT
BEGIN:VEVENT
DTSTART;TZID=America/Los_Angeles:20250702T100000
DTEND;TZID=America/Los_Angeles:20250702T110000
DTSTAMP:20260423T191951
CREATED:20231115T013816Z
LAST-MODIFIED:20231115T014053Z
UID:10000838-1751450400-1751454000@escapevelocityfoundation.com
SUMMARY:Sacramento Literacy Coalition Meeting
DESCRIPTION:Monthly literacy coalition meeting \nLiteracy Coalition Monthly Check-In \n \n\n\n	Related
URL:https://escapevelocityfoundation.com/event/sacramento-literacy-coalition-meeting-2/2025-07-02/
LOCATION:Zoom
CATEGORIES:literacy,Meeting
ORGANIZER;CN="Escape Velocity Resources Foundation Inc":MAILTO:escapevelocityfoundationinc@gmail.com
END:VEVENT
BEGIN:VEVENT
DTSTART;TZID=America/Los_Angeles:20250604T100000
DTEND;TZID=America/Los_Angeles:20250604T110000
DTSTAMP:20260423T191951
CREATED:20231115T013816Z
LAST-MODIFIED:20231115T014053Z
UID:10000837-1749031200-1749034800@escapevelocityfoundation.com
SUMMARY:Sacramento Literacy Coalition Meeting
DESCRIPTION:Monthly literacy coalition meeting \nLiteracy Coalition Monthly Check-In \n \n\n\n	Related
URL:https://escapevelocityfoundation.com/event/sacramento-literacy-coalition-meeting-2/2025-06-04/
LOCATION:Zoom
CATEGORIES:literacy,Meeting
ORGANIZER;CN="Escape Velocity Resources Foundation Inc":MAILTO:escapevelocityfoundationinc@gmail.com
END:VEVENT
BEGIN:VEVENT
DTSTART;TZID=America/Los_Angeles:20250507T100000
DTEND;TZID=America/Los_Angeles:20250507T110000
DTSTAMP:20260423T191951
CREATED:20231115T013816Z
LAST-MODIFIED:20231115T014053Z
UID:10000836-1746612000-1746615600@escapevelocityfoundation.com
SUMMARY:Sacramento Literacy Coalition Meeting
DESCRIPTION:Monthly literacy coalition meeting \nLiteracy Coalition Monthly Check-In \n \n\n\n	Related
URL:https://escapevelocityfoundation.com/event/sacramento-literacy-coalition-meeting-2/2025-05-07/
LOCATION:Zoom
CATEGORIES:literacy,Meeting
ORGANIZER;CN="Escape Velocity Resources Foundation Inc":MAILTO:escapevelocityfoundationinc@gmail.com
END:VEVENT
BEGIN:VEVENT
DTSTART;TZID=America/Los_Angeles:20250402T100000
DTEND;TZID=America/Los_Angeles:20250402T110000
DTSTAMP:20260423T191951
CREATED:20231115T013816Z
LAST-MODIFIED:20231115T014053Z
UID:10000835-1743588000-1743591600@escapevelocityfoundation.com
SUMMARY:Sacramento Literacy Coalition Meeting
DESCRIPTION:Monthly literacy coalition meeting \nLiteracy Coalition Monthly Check-In \n \n\n\n	Related
URL:https://escapevelocityfoundation.com/event/sacramento-literacy-coalition-meeting-2/2025-04-02/
LOCATION:Zoom
CATEGORIES:literacy,Meeting
ORGANIZER;CN="Escape Velocity Resources Foundation Inc":MAILTO:escapevelocityfoundationinc@gmail.com
END:VEVENT
BEGIN:VEVENT
DTSTART;TZID=America/Los_Angeles:20250305T100000
DTEND;TZID=America/Los_Angeles:20250305T110000
DTSTAMP:20260423T191951
CREATED:20231115T013816Z
LAST-MODIFIED:20231115T014053Z
UID:10000834-1741168800-1741172400@escapevelocityfoundation.com
SUMMARY:Sacramento Literacy Coalition Meeting
DESCRIPTION:Monthly literacy coalition meeting \nLiteracy Coalition Monthly Check-In \n \n\n\n	Related
URL:https://escapevelocityfoundation.com/event/sacramento-literacy-coalition-meeting-2/2025-03-05/
LOCATION:Zoom
CATEGORIES:literacy,Meeting
ORGANIZER;CN="Escape Velocity Resources Foundation Inc":MAILTO:escapevelocityfoundationinc@gmail.com
END:VEVENT
BEGIN:VEVENT
DTSTART;TZID=America/Los_Angeles:20250205T100000
DTEND;TZID=America/Los_Angeles:20250205T110000
DTSTAMP:20260423T191951
CREATED:20231115T013816Z
LAST-MODIFIED:20231115T014053Z
UID:10000833-1738749600-1738753200@escapevelocityfoundation.com
SUMMARY:Sacramento Literacy Coalition Meeting
DESCRIPTION:Monthly literacy coalition meeting \nLiteracy Coalition Monthly Check-In \n \n\n\n	Related
URL:https://escapevelocityfoundation.com/event/sacramento-literacy-coalition-meeting-2/2025-02-05/
LOCATION:Zoom
CATEGORIES:literacy,Meeting
ORGANIZER;CN="Escape Velocity Resources Foundation Inc":MAILTO:escapevelocityfoundationinc@gmail.com
END:VEVENT
BEGIN:VEVENT
DTSTART;TZID=America/Los_Angeles:20250101T100000
DTEND;TZID=America/Los_Angeles:20250101T110000
DTSTAMP:20260423T191951
CREATED:20231115T013816Z
LAST-MODIFIED:20231115T014053Z
UID:10000832-1735725600-1735729200@escapevelocityfoundation.com
SUMMARY:Sacramento Literacy Coalition Meeting
DESCRIPTION:Monthly literacy coalition meeting \nLiteracy Coalition Monthly Check-In \n \n\n\n	Related
URL:https://escapevelocityfoundation.com/event/sacramento-literacy-coalition-meeting-2/2025-01-01/
LOCATION:Zoom
CATEGORIES:literacy,Meeting
ORGANIZER;CN="Escape Velocity Resources Foundation Inc":MAILTO:escapevelocityfoundationinc@gmail.com
END:VEVENT
BEGIN:VEVENT
DTSTART;TZID=America/Los_Angeles:20241204T100000
DTEND;TZID=America/Los_Angeles:20241204T110000
DTSTAMP:20260423T191951
CREATED:20231115T013816Z
LAST-MODIFIED:20231115T014053Z
UID:10000831-1733306400-1733310000@escapevelocityfoundation.com
SUMMARY:Sacramento Literacy Coalition Meeting
DESCRIPTION:Monthly literacy coalition meeting \nLiteracy Coalition Monthly Check-In \n \n\n\n	Related
URL:https://escapevelocityfoundation.com/event/sacramento-literacy-coalition-meeting-2/2024-12-04/
LOCATION:Zoom
CATEGORIES:literacy,Meeting
ORGANIZER;CN="Escape Velocity Resources Foundation Inc":MAILTO:escapevelocityfoundationinc@gmail.com
END:VEVENT
BEGIN:VEVENT
DTSTART;TZID=America/Los_Angeles:20241106T100000
DTEND;TZID=America/Los_Angeles:20241106T110000
DTSTAMP:20260423T191951
CREATED:20231115T013816Z
LAST-MODIFIED:20231115T014053Z
UID:10000830-1730887200-1730890800@escapevelocityfoundation.com
SUMMARY:Sacramento Literacy Coalition Meeting
DESCRIPTION:Monthly literacy coalition meeting \nLiteracy Coalition Monthly Check-In \n \n\n\n	Related
URL:https://escapevelocityfoundation.com/event/sacramento-literacy-coalition-meeting-2/2024-11-06/
LOCATION:Zoom
CATEGORIES:literacy,Meeting
ORGANIZER;CN="Escape Velocity Resources Foundation Inc":MAILTO:escapevelocityfoundationinc@gmail.com
END:VEVENT
BEGIN:VEVENT
DTSTART;TZID=America/Los_Angeles:20241002T100000
DTEND;TZID=America/Los_Angeles:20241002T110000
DTSTAMP:20260423T191951
CREATED:20231115T013816Z
LAST-MODIFIED:20231115T014053Z
UID:10000829-1727863200-1727866800@escapevelocityfoundation.com
SUMMARY:Sacramento Literacy Coalition Meeting
DESCRIPTION:Monthly literacy coalition meeting \nLiteracy Coalition Monthly Check-In \n \n\n\n	Related
URL:https://escapevelocityfoundation.com/event/sacramento-literacy-coalition-meeting-2/2024-10-02/
LOCATION:Zoom
CATEGORIES:literacy,Meeting
ORGANIZER;CN="Escape Velocity Resources Foundation Inc":MAILTO:escapevelocityfoundationinc@gmail.com
END:VEVENT
BEGIN:VEVENT
DTSTART;TZID=America/Los_Angeles:20240904T100000
DTEND;TZID=America/Los_Angeles:20240904T110000
DTSTAMP:20260423T191951
CREATED:20231115T013816Z
LAST-MODIFIED:20231115T014053Z
UID:10000828-1725444000-1725447600@escapevelocityfoundation.com
SUMMARY:Sacramento Literacy Coalition Meeting
DESCRIPTION:Monthly literacy coalition meeting \nLiteracy Coalition Monthly Check-In \n \n\n\n	Related
URL:https://escapevelocityfoundation.com/event/sacramento-literacy-coalition-meeting-2/2024-09-04/
LOCATION:Zoom
CATEGORIES:literacy,Meeting
ORGANIZER;CN="Escape Velocity Resources Foundation Inc":MAILTO:escapevelocityfoundationinc@gmail.com
END:VEVENT
BEGIN:VEVENT
DTSTART;TZID=America/Los_Angeles:20240807T100000
DTEND;TZID=America/Los_Angeles:20240807T110000
DTSTAMP:20260423T191951
CREATED:20231115T013816Z
LAST-MODIFIED:20231115T014053Z
UID:10000827-1723024800-1723028400@escapevelocityfoundation.com
SUMMARY:Sacramento Literacy Coalition Meeting
DESCRIPTION:Monthly literacy coalition meeting \nLiteracy Coalition Monthly Check-In \n \n\n\n	Related
URL:https://escapevelocityfoundation.com/event/sacramento-literacy-coalition-meeting-2/2024-08-07/
LOCATION:Zoom
CATEGORIES:literacy,Meeting
ORGANIZER;CN="Escape Velocity Resources Foundation Inc":MAILTO:escapevelocityfoundationinc@gmail.com
END:VEVENT
BEGIN:VEVENT
DTSTART;TZID=America/Los_Angeles:20240731T183000
DTEND;TZID=America/Los_Angeles:20240731T193000
DTSTAMP:20260423T191951
CREATED:20240523T132559Z
LAST-MODIFIED:20240523T133706Z
UID:10001053-1722450600-1722454200@escapevelocityfoundation.com
SUMMARY:Summer Reading Challenge Weekly Check-In
DESCRIPTION:Weekly Zoom Meetings: \n\nFun literary Kahoot games\nProgress updates\nEngaging writing entries\nOpportunities to connect with fellow participants\n\n\n\n	Related
URL:https://escapevelocityfoundation.com/event/summer-reading-challenge-weekly-check-in-2/2024-07-31/
LOCATION:Zoom
CATEGORIES:Summer Reading
ATTACH;FMTTYPE=image/png:https://escapevelocityfoundation.com/wp-content/uploads/summer-reading-challenge-logo-samples.png
ORGANIZER;CN="Escape Velocity Resources Foundation Inc":MAILTO:escapevelocityfoundationinc@gmail.com
END:VEVENT
BEGIN:VEVENT
DTSTART;TZID=America/Los_Angeles:20240724T183000
DTEND;TZID=America/Los_Angeles:20240724T193000
DTSTAMP:20260423T191951
CREATED:20240523T132559Z
LAST-MODIFIED:20240523T133706Z
UID:10001052-1721845800-1721849400@escapevelocityfoundation.com
SUMMARY:Summer Reading Challenge Weekly Check-In
DESCRIPTION:Weekly Zoom Meetings: \n\nFun literary Kahoot games\nProgress updates\nEngaging writing entries\nOpportunities to connect with fellow participants\n\n\n\n	Related
URL:https://escapevelocityfoundation.com/event/summer-reading-challenge-weekly-check-in-2/2024-07-24/
LOCATION:Zoom
CATEGORIES:Summer Reading
ATTACH;FMTTYPE=image/png:https://escapevelocityfoundation.com/wp-content/uploads/summer-reading-challenge-logo-samples.png
ORGANIZER;CN="Escape Velocity Resources Foundation Inc":MAILTO:escapevelocityfoundationinc@gmail.com
END:VEVENT
BEGIN:VEVENT
DTSTART;TZID=America/Los_Angeles:20240717T183000
DTEND;TZID=America/Los_Angeles:20240717T193000
DTSTAMP:20260423T191951
CREATED:20240523T132559Z
LAST-MODIFIED:20240523T133706Z
UID:10001051-1721241000-1721244600@escapevelocityfoundation.com
SUMMARY:Summer Reading Challenge Weekly Check-In
DESCRIPTION:Weekly Zoom Meetings: \n\nFun literary Kahoot games\nProgress updates\nEngaging writing entries\nOpportunities to connect with fellow participants\n\n\n\n	Related
URL:https://escapevelocityfoundation.com/event/summer-reading-challenge-weekly-check-in-2/2024-07-17/
LOCATION:Zoom
CATEGORIES:Summer Reading
ATTACH;FMTTYPE=image/png:https://escapevelocityfoundation.com/wp-content/uploads/summer-reading-challenge-logo-samples.png
ORGANIZER;CN="Escape Velocity Resources Foundation Inc":MAILTO:escapevelocityfoundationinc@gmail.com
END:VEVENT
BEGIN:VEVENT
DTSTART;TZID=America/Los_Angeles:20240710T183000
DTEND;TZID=America/Los_Angeles:20240710T193000
DTSTAMP:20260423T191951
CREATED:20240523T132559Z
LAST-MODIFIED:20240523T133706Z
UID:10001050-1720636200-1720639800@escapevelocityfoundation.com
SUMMARY:Summer Reading Challenge Weekly Check-In
DESCRIPTION:Weekly Zoom Meetings: \n\nFun literary Kahoot games\nProgress updates\nEngaging writing entries\nOpportunities to connect with fellow participants\n\n\n\n	Related
URL:https://escapevelocityfoundation.com/event/summer-reading-challenge-weekly-check-in-2/2024-07-10/
LOCATION:Zoom
CATEGORIES:Summer Reading
ATTACH;FMTTYPE=image/png:https://escapevelocityfoundation.com/wp-content/uploads/summer-reading-challenge-logo-samples.png
ORGANIZER;CN="Escape Velocity Resources Foundation Inc":MAILTO:escapevelocityfoundationinc@gmail.com
END:VEVENT
BEGIN:VEVENT
DTSTART;TZID=America/Los_Angeles:20240703T183000
DTEND;TZID=America/Los_Angeles:20240703T193000
DTSTAMP:20260423T191951
CREATED:20240523T132559Z
LAST-MODIFIED:20240523T133706Z
UID:10001049-1720031400-1720035000@escapevelocityfoundation.com
SUMMARY:Summer Reading Challenge Weekly Check-In
DESCRIPTION:Weekly Zoom Meetings: \n\nFun literary Kahoot games\nProgress updates\nEngaging writing entries\nOpportunities to connect with fellow participants\n\n\n\n	Related
URL:https://escapevelocityfoundation.com/event/summer-reading-challenge-weekly-check-in-2/2024-07-03/
LOCATION:Zoom
CATEGORIES:Summer Reading
ATTACH;FMTTYPE=image/png:https://escapevelocityfoundation.com/wp-content/uploads/summer-reading-challenge-logo-samples.png
ORGANIZER;CN="Escape Velocity Resources Foundation Inc":MAILTO:escapevelocityfoundationinc@gmail.com
END:VEVENT
BEGIN:VEVENT
DTSTART;TZID=America/Los_Angeles:20240703T100000
DTEND;TZID=America/Los_Angeles:20240703T110000
DTSTAMP:20260423T191951
CREATED:20231115T013816Z
LAST-MODIFIED:20231115T014053Z
UID:10000826-1720000800-1720004400@escapevelocityfoundation.com
SUMMARY:Sacramento Literacy Coalition Meeting
DESCRIPTION:Monthly literacy coalition meeting \nLiteracy Coalition Monthly Check-In \n \n\n\n	Related
URL:https://escapevelocityfoundation.com/event/sacramento-literacy-coalition-meeting-2/2024-07-03/
LOCATION:Zoom
CATEGORIES:literacy,Meeting
ORGANIZER;CN="Escape Velocity Resources Foundation Inc":MAILTO:escapevelocityfoundationinc@gmail.com
END:VEVENT
BEGIN:VEVENT
DTSTART;TZID=America/Los_Angeles:20240626T183000
DTEND;TZID=America/Los_Angeles:20240626T193000
DTSTAMP:20260423T191951
CREATED:20240523T132559Z
LAST-MODIFIED:20240523T133706Z
UID:10001048-1719426600-1719430200@escapevelocityfoundation.com
SUMMARY:Summer Reading Challenge Weekly Check-In
DESCRIPTION:Weekly Zoom Meetings: \n\nFun literary Kahoot games\nProgress updates\nEngaging writing entries\nOpportunities to connect with fellow participants\n\n\n\n	Related
URL:https://escapevelocityfoundation.com/event/summer-reading-challenge-weekly-check-in-2/2024-06-26/
LOCATION:Zoom
CATEGORIES:Summer Reading
ATTACH;FMTTYPE=image/png:https://escapevelocityfoundation.com/wp-content/uploads/summer-reading-challenge-logo-samples.png
ORGANIZER;CN="Escape Velocity Resources Foundation Inc":MAILTO:escapevelocityfoundationinc@gmail.com
END:VEVENT
BEGIN:VEVENT
DTSTART;TZID=America/Los_Angeles:20240619T183000
DTEND;TZID=America/Los_Angeles:20240619T193000
DTSTAMP:20260423T191951
CREATED:20240523T132559Z
LAST-MODIFIED:20240523T133706Z
UID:10001047-1718821800-1718825400@escapevelocityfoundation.com
SUMMARY:Summer Reading Challenge Weekly Check-In
DESCRIPTION:Weekly Zoom Meetings: \n\nFun literary Kahoot games\nProgress updates\nEngaging writing entries\nOpportunities to connect with fellow participants\n\n\n\n	Related
URL:https://escapevelocityfoundation.com/event/summer-reading-challenge-weekly-check-in-2/2024-06-19/
LOCATION:Zoom
CATEGORIES:Summer Reading
ATTACH;FMTTYPE=image/png:https://escapevelocityfoundation.com/wp-content/uploads/summer-reading-challenge-logo-samples.png
ORGANIZER;CN="Escape Velocity Resources Foundation Inc":MAILTO:escapevelocityfoundationinc@gmail.com
END:VEVENT
BEGIN:VEVENT
DTSTART;TZID=America/Los_Angeles:20240612T183000
DTEND;TZID=America/Los_Angeles:20240612T193000
DTSTAMP:20260423T191951
CREATED:20240523T132559Z
LAST-MODIFIED:20240523T133706Z
UID:10001046-1718217000-1718220600@escapevelocityfoundation.com
SUMMARY:Summer Reading Challenge Weekly Check-In
DESCRIPTION:Weekly Zoom Meetings: \n\nFun literary Kahoot games\nProgress updates\nEngaging writing entries\nOpportunities to connect with fellow participants\n\n\n\n	Related
URL:https://escapevelocityfoundation.com/event/summer-reading-challenge-weekly-check-in-2/2024-06-12/
LOCATION:Zoom
CATEGORIES:Summer Reading
ATTACH;FMTTYPE=image/png:https://escapevelocityfoundation.com/wp-content/uploads/summer-reading-challenge-logo-samples.png
ORGANIZER;CN="Escape Velocity Resources Foundation Inc":MAILTO:escapevelocityfoundationinc@gmail.com
END:VEVENT
BEGIN:VEVENT
DTSTART;TZID=America/Los_Angeles:20240605T183000
DTEND;TZID=America/Los_Angeles:20240605T193000
DTSTAMP:20260423T191951
CREATED:20240523T132559Z
LAST-MODIFIED:20240523T133706Z
UID:10001045-1717612200-1717615800@escapevelocityfoundation.com
SUMMARY:Summer Reading Challenge Weekly Check-In
DESCRIPTION:Weekly Zoom Meetings: \n\nFun literary Kahoot games\nProgress updates\nEngaging writing entries\nOpportunities to connect with fellow participants\n\n\n\n	Related
URL:https://escapevelocityfoundation.com/event/summer-reading-challenge-weekly-check-in-2/2024-06-05/
LOCATION:Zoom
CATEGORIES:Summer Reading
ATTACH;FMTTYPE=image/png:https://escapevelocityfoundation.com/wp-content/uploads/summer-reading-challenge-logo-samples.png
ORGANIZER;CN="Escape Velocity Resources Foundation Inc":MAILTO:escapevelocityfoundationinc@gmail.com
END:VEVENT
BEGIN:VEVENT
DTSTART;TZID=America/Los_Angeles:20240605T100000
DTEND;TZID=America/Los_Angeles:20240605T110000
DTSTAMP:20260423T191951
CREATED:20231115T013816Z
LAST-MODIFIED:20231115T014053Z
UID:10000825-1717581600-1717585200@escapevelocityfoundation.com
SUMMARY:Sacramento Literacy Coalition Meeting
DESCRIPTION:Monthly literacy coalition meeting \nLiteracy Coalition Monthly Check-In \n \n\n\n	Related
URL:https://escapevelocityfoundation.com/event/sacramento-literacy-coalition-meeting-2/2024-06-05/
LOCATION:Zoom
CATEGORIES:literacy,Meeting
ORGANIZER;CN="Escape Velocity Resources Foundation Inc":MAILTO:escapevelocityfoundationinc@gmail.com
END:VEVENT
BEGIN:VEVENT
DTSTART;TZID=America/Los_Angeles:20240522T183000
DTEND;TZID=America/Los_Angeles:20240522T200000
DTSTAMP:20260423T191951
CREATED:20231115T015251Z
LAST-MODIFIED:20231115T015419Z
UID:10000910-1716402600-1716408000@escapevelocityfoundation.com
SUMMARY:Around the Way Girls Book Club
DESCRIPTION:Related
URL:https://escapevelocityfoundation.com/event/around-the-way-girls-book-club-4/2024-05-22/
LOCATION:Zoom
CATEGORIES:Around the Way Girls,Book Club Meeting
ORGANIZER;CN="Escape Velocity Resources Foundation Inc":MAILTO:escapevelocityfoundationinc@gmail.com
END:VEVENT
BEGIN:VEVENT
DTSTART;TZID=America/Los_Angeles:20240515T183000
DTEND;TZID=America/Los_Angeles:20240515T200000
DTSTAMP:20260423T191951
CREATED:20231115T015251Z
LAST-MODIFIED:20231115T015419Z
UID:10000909-1715797800-1715803200@escapevelocityfoundation.com
SUMMARY:Around the Way Girls Book Club
DESCRIPTION:Related
URL:https://escapevelocityfoundation.com/event/around-the-way-girls-book-club-4/2024-05-15/
LOCATION:Zoom
CATEGORIES:Around the Way Girls,Book Club Meeting
ORGANIZER;CN="Escape Velocity Resources Foundation Inc":MAILTO:escapevelocityfoundationinc@gmail.com
END:VEVENT
BEGIN:VEVENT
DTSTART;TZID=America/Los_Angeles:20240510T183000
DTEND;TZID=America/Los_Angeles:20240510T200000
DTSTAMP:20260423T191951
CREATED:20231115T020049Z
LAST-MODIFIED:20231115T020333Z
UID:10000920-1715365800-1715371200@escapevelocityfoundation.com
SUMMARY:Boys in the Hood Book Club
DESCRIPTION:Related
URL:https://escapevelocityfoundation.com/event/boys-in-the-hood-book-club-4/2024-05-10/
LOCATION:Zoom
CATEGORIES:Book Club Meeting,Boys in the Hood
ORGANIZER;CN="Escape Velocity Resources Foundation Inc":MAILTO:escapevelocityfoundationinc@gmail.com
END:VEVENT
BEGIN:VEVENT
DTSTART;TZID=America/Los_Angeles:20240508T183000
DTEND;TZID=America/Los_Angeles:20240508T200000
DTSTAMP:20260423T191951
CREATED:20231115T015251Z
LAST-MODIFIED:20231115T015419Z
UID:10000908-1715193000-1715198400@escapevelocityfoundation.com
SUMMARY:Around the Way Girls Book Club
DESCRIPTION:Related
URL:https://escapevelocityfoundation.com/event/around-the-way-girls-book-club-4/2024-05-08/
LOCATION:Zoom
CATEGORIES:Around the Way Girls,Book Club Meeting
ORGANIZER;CN="Escape Velocity Resources Foundation Inc":MAILTO:escapevelocityfoundationinc@gmail.com
END:VEVENT
BEGIN:VEVENT
DTSTART;TZID=America/Los_Angeles:20240501T183000
DTEND;TZID=America/Los_Angeles:20240501T200000
DTSTAMP:20260423T191951
CREATED:20231115T015251Z
LAST-MODIFIED:20231115T015419Z
UID:10000907-1714588200-1714593600@escapevelocityfoundation.com
SUMMARY:Around the Way Girls Book Club
DESCRIPTION:Related
URL:https://escapevelocityfoundation.com/event/around-the-way-girls-book-club-4/2024-05-01/
LOCATION:Zoom
CATEGORIES:Around the Way Girls,Book Club Meeting
ORGANIZER;CN="Escape Velocity Resources Foundation Inc":MAILTO:escapevelocityfoundationinc@gmail.com
END:VEVENT
BEGIN:VEVENT
DTSTART;TZID=America/Los_Angeles:20240501T100000
DTEND;TZID=America/Los_Angeles:20240501T110000
DTSTAMP:20260423T191951
CREATED:20231115T013816Z
LAST-MODIFIED:20231115T014053Z
UID:10000824-1714557600-1714561200@escapevelocityfoundation.com
SUMMARY:Sacramento Literacy Coalition Meeting
DESCRIPTION:Monthly literacy coalition meeting \nLiteracy Coalition Monthly Check-In \n \n\n\n	Related
URL:https://escapevelocityfoundation.com/event/sacramento-literacy-coalition-meeting-2/2024-05-01/
LOCATION:Zoom
CATEGORIES:literacy,Meeting
ORGANIZER;CN="Escape Velocity Resources Foundation Inc":MAILTO:escapevelocityfoundationinc@gmail.com
END:VEVENT
END:VCALENDAR